BEGIN:VCALENDAR
VERSION:2.0
PRODID:-//Ben Franklin Range - ECPv6.15.20//NONSGML v1.0//EN
CALSCALE:GREGORIAN
METHOD:PUBLISH
X-WR-CALNAME:Ben Franklin Range
X-ORIGINAL-URL:https://benfranklinrange.com
X-WR-CALDESC:Events for Ben Franklin Range
REFRESH-INTERVAL;VALUE=DURATION:PT1H
X-Robots-Tag:noindex
X-PUBLISHED-TTL:PT1H
BEGIN:VTIMEZONE
TZID:America/New_York
BEGIN:DAYLIGHT
TZOFFSETFROM:-0500
TZOFFSETTO:-0400
TZNAME:EDT
DTSTART:20240310T070000
END:DAYLIGHT
BEGIN:STANDARD
TZOFFSETFROM:-0400
TZOFFSETTO:-0500
TZNAME:EST
DTSTART:20241103T060000
END:STANDARD
BEGIN:DAYLIGHT
TZOFFSETFROM:-0500
TZOFFSETTO:-0400
TZNAME:EDT
DTSTART:20250309T070000
END:DAYLIGHT
BEGIN:STANDARD
TZOFFSETFROM:-0400
TZOFFSETTO:-0500
TZNAME:EST
DTSTART:20251102T060000
END:STANDARD
BEGIN:DAYLIGHT
TZOFFSETFROM:-0500
TZOFFSETTO:-0400
TZNAME:EDT
DTSTART:20260308T070000
END:DAYLIGHT
BEGIN:STANDARD
TZOFFSETFROM:-0400
TZOFFSETTO:-0500
TZNAME:EST
DTSTART:20261101T060000
END:STANDARD
END:VTIMEZONE
BEGIN:VEVENT
DTSTART;TZID=America/New_York:20250405T080000
DTEND;TZID=America/New_York:20250406T170000
DTSTAMP:20260421T060540
CREATED:20250307T135357Z
LAST-MODIFIED:20250307T140344Z
UID:10000170-1743840000-1743958800@benfranklinrange.com
SUMMARY:Lodging - Baer Solutions Pistol LVL 1 & LVL 2 - April 5 & 6
DESCRIPTION:Ben Franklin Lodging\nBaer Solutions Pistol LVL 1 & LVL 2\n  \nLink to Class: \nPistol LVL 1 \nhttps://baersolutionsllc.com/view-all/p/17-feb-2024-florence-tx-pistol-lvl-1-drtkh \nPistol LVL 2 \nhttps://baersolutionsllc.com/view-all/p/pistol-2-5xgtd-9mas2-f7a4r-sntjj-jlfzb-39e4n-t8jr5-x597h-r5jld-h545l \n  \nSeveral Lodging Options \nOption 1 – Pistol Level 1 Class ONLY\nCheck In: \nFriday April 4 at 5pm or later \nCheck Out: \nSaturday April 5 by at the 9am – or the beginning of class \nSee Ticket Option 1 Below \nOption 2 – Pistol Level 2 Class ONLY\nCheck In: \nSaturday April 5 at 5pm or later \nCheck Out: \nSunday April 6 by at the 9am – or the beginning of class \nSee Ticket Option 2 Below \nOption 3 – Pistol Level 1 & Level 2 Classes ONLY\nCheck In: \nFriday April 4 at 5pm or later \nCheck Out: \nSunday April 6 by at the 9am – or the beginning of class \nSee Ticket Option 3 Below \n  \n  \nLodging includes: (click to see BFR Lodge) \n\n1 bunk\nStorage Locker (please provide own lock for stand up lockers)\nAccess to 3 full baths\nKitchenette (Refrigerator\, freezer\, microwave\, coffee maker)\nFull Kitchen\, appliances and fully stocked with supplies\nCommon area\nFree on-site free parking\nLinens and Towels included\nCorner Store for small snack and logo merchandise purchases\n\nNo onsite camping options at all available for this event – If students wish to camp they need to find alternate site arrangements \n Please click here to sign waiver when registering for a bunk – Must sign waiver before entering Lodge for your stay \nShortly before event – Students will receive an email with Lodge Door codes\, Gate codes and various files with information about BFR and the area as well as safety and standard operational procedures of the property \nIf you have any questions please contact us: \nCall or Text: (412) 439-8751 \nEmail: info@benfranklinrange.com \nPlease note: \nThis registration is for Lodging only – to register for the class please see link above
URL:https://benfranklinrange.com/event1/bear-solutions-pistol-lvl-1-lvl-2-april-5-6/
LOCATION:Ben Franklin Range\, 1130 Ridge Road\, Templeton\, PA\, 16259\, United States
CATEGORIES:Classes,Lodging
ATTACH;FMTTYPE=image/png:https://benfranklinrange.com/wp-content/uploads/2023/07/bfr_lodge_header.png
ORGANIZER;CN="Mojave Repeater":MAILTO:info@mojaverepeater.com
END:VEVENT
BEGIN:VEVENT
DTSTART;TZID=America/New_York:20250427T090000
DTEND;TZID=America/New_York:20250427T170000
DTSTAMP:20260421T060540
CREATED:20250112T213930Z
LAST-MODIFIED:20250112T220757Z
UID:10000153-1745744400-1745773200@benfranklinrange.com
SUMMARY:Big Fun Ride - Sunday April 27
DESCRIPTION:Big Fun Ride\nSunday April 27th\n9AM – 5PM\n \nCome join Ben Franklin Range (BFR)\, in conjunction with Stiller Motor Sports\, for our Big Fun Ride on our over 70 miles of scenic trails throughout 1\,100+acres of land. This is a day of Great Family Fun. Trails range from beginner to challenging and everything in between (rocks\, water\, hills\, open land\, mud pit\, great views everywhere). All types of off road vehicles welcome – 4×4’s\, ATV’s\, Side-by-sides\, Dirt Bikes\, Rock Buggies\, Jeeps\, Broncos\, Range Rovers\, FJ’s\, anything off road worthy. We have maps that can be digitally downloaded for a variety of apps: website for maps – https://benfranklinrange.com/big-fun-ride/ \nGate Day Fees:\n\nGates Open at 9AM\nMust be off property by 5PM\nNO CAMPING\n$25 per Driver\n$20 per Passanger/Spectator\nKids under 12 FREE with their families\nPlease have exact change at Gate\nNo money will be returned\nTrail maps available online at our official partner of ON X Maps and at gate printed out\n\nBFR Dirty Dozen:\nCheck out our BFR Dirty Dozen! 12 great places along our trails to take photos and post online with hashtag: #BFRDirtyDozen – See them on the map at: https://benfranklinrange.com/big-fun-ride/ and on the map on the apps. \n1 – The Squeeze – Very Hard \n2 – Land Mines – Moderate \n3 – Rocky Road – Moderate \n4 – K9 Climb – Moderate \n5 – Slick Rock – Difficult \n6 – No Doubt – Difficult \n7 – Sniper Ledge – Difficult \n8 – Waterfall Crawl – Hard \n9 – Dirty Money – Hard \n10 – The Can Am Crew Crawl – EXTREME \n11 – The PITT – Easy (H2P) \n12 – Entrance Sign – Easy \nBONUS: \nA – Russian Roulette \nB – Highway to Heaven \nC – Picture Perfect \nD – Stair Steps \nE – Muddy Waters \nF – Power Lines. \nInstagram Challenge:\nCome to the Big Fun Ride and take your best photos and post them online using our Hashtags: \n#BFRMUD – Post the photo(s) showing off your fun in the mud at BFR during the Big Fun Ride \n#BFRMOD – Post the photo(s) showing off your vehicle’s best modification at BFR during the Big Fun Ride \n#BFRFAMILY – Post the photo(s) showing off your family fun at BFR during the Big Fun Ride \nTake the photos\, post\, tag them and comment on each others – You could win BFR Prizes!! Don’t forget to ad hashtag #BFR \nGreat Family Fun!
URL:https://benfranklinrange.com/event1/big-fun-ride-sunday-april-27/
LOCATION:Ben Franklin Range\, 1130 Ridge Road\, Templeton\, PA\, 16259\, United States
CATEGORIES:Events,Off-Road
ATTACH;FMTTYPE=image/png:https://benfranklinrange.com/wp-content/uploads/2025/01/bfr_bfr_web_hearder.png
ORGANIZER;CN="Ben Franklin Range":MAILTO:info@benfranklinrange.com
END:VEVENT
BEGIN:VEVENT
DTSTART;TZID=America/New_York:20250428T140000
DTEND;TZID=America/New_York:20250502T230000
DTSTAMP:20260421T060540
CREATED:20250315T184129Z
LAST-MODIFIED:20250315T185144Z
UID:10000171-1745848800-1746226800@benfranklinrange.com
SUMMARY:Lodging – Tap Rack Tactical – Law Enforcement ONLY  NVG Instructor– April 28 – May 2
DESCRIPTION:Lodging \nTap Rack Tactical\nLaw Enforcement ONLY  NVG Instructor\n April 28 – May 2\nRegister for the class(s): \nhttps://tap-rack.com/calendar \nBen Franklin Range Lodging information and registration for this course will be as follows: \nCheck In: \nSunday April 27 at 5pm or later \nCheck Out: \nFriday May 1 by at the 9am – or the beginning of class \n5 Nights \n$60/Bunk = $300 \nTax = $18.00 \nTotal = $318.00 \nPlus one time cleaning fee of $30/Bunk \n$300(bunk) + $30(cleaning) = $330 + $19.80(tax) = $349.80 Total \nLodging includes: (click to see BFR Lodge) \n\n1 bunk\nStorage Locker (please provide own lock for stand up lockers)\nAccess to 3 full baths\nKitchenette (Refrigerator\, freezer\, microwave\, coffee maker)\nFull Kitchen\, appliances and fully stocked with supplies\nCommon area\nFree on-site free parking\nLinens and Towels included\nCorner Store for small snack and logo merchandise purchases\n\nNo onsite camping options at all available for this event – If students wish to camp they need to find alternate site arrangements \n Please click here to sign waiver when registering for a bunk – Must sign waiver before entering Lodge for your stay \nShortly before event – Students will receive an email with Lodge Door codes\, Gate codes and various files with information about BFR and the area as well as safety and standard operational procedures of the property \nIf you have any questions please contact us: \nCall or Text: (412) 439-8751 \nEmail: info@benfranklinrange.com \nPlease note: \nThis registration is for Lodging only – to register for the class please see link above
URL:https://benfranklinrange.com/event1/lodging-tap-rack-tactical-law-enforcement-only-nvg-instructor-april-28-may-2/
LOCATION:PA
CATEGORIES:Classes,Lodging
ATTACH;FMTTYPE=image/png:https://benfranklinrange.com/wp-content/uploads/2023/07/bfr_lodge_header.png
END:VEVENT
END:VCALENDAR