BEGIN:VCALENDAR
VERSION:2.0
PRODID:-//Ben Franklin Range - ECPv6.15.20//NONSGML v1.0//EN
CALSCALE:GREGORIAN
METHOD:PUBLISH
X-WR-CALNAME:Ben Franklin Range
X-ORIGINAL-URL:https://benfranklinrange.com
X-WR-CALDESC:Events for Ben Franklin Range
REFRESH-INTERVAL;VALUE=DURATION:PT1H
X-Robots-Tag:noindex
X-PUBLISHED-TTL:PT1H
BEGIN:VTIMEZONE
TZID:UTC
BEGIN:STANDARD
TZOFFSETFROM:+0000
TZOFFSETTO:+0000
TZNAME:UTC
DTSTART:20220101T000000
END:STANDARD
END:VTIMEZONE
BEGIN:VTIMEZONE
TZID:America/New_York
BEGIN:DAYLIGHT
TZOFFSETFROM:-0500
TZOFFSETTO:-0400
TZNAME:EDT
DTSTART:20220313T070000
END:DAYLIGHT
BEGIN:STANDARD
TZOFFSETFROM:-0400
TZOFFSETTO:-0500
TZNAME:EST
DTSTART:20221106T060000
END:STANDARD
BEGIN:DAYLIGHT
TZOFFSETFROM:-0500
TZOFFSETTO:-0400
TZNAME:EDT
DTSTART:20230312T070000
END:DAYLIGHT
BEGIN:STANDARD
TZOFFSETFROM:-0400
TZOFFSETTO:-0500
TZNAME:EST
DTSTART:20231105T060000
END:STANDARD
BEGIN:DAYLIGHT
TZOFFSETFROM:-0500
TZOFFSETTO:-0400
TZNAME:EDT
DTSTART:20240310T070000
END:DAYLIGHT
BEGIN:STANDARD
TZOFFSETFROM:-0400
TZOFFSETTO:-0500
TZNAME:EST
DTSTART:20241103T060000
END:STANDARD
END:VTIMEZONE
BEGIN:VEVENT
DTSTART;TZID=UTC:20230319T090000
DTEND;TZID=UTC:20230319T170000
DTSTAMP:20260420T173541
CREATED:20230114T182713Z
LAST-MODIFIED:20230119T195629Z
UID:10000017-1679216400-1679245200@benfranklinrange.com
SUMMARY:BFR & Stiller Motorsports - Big Fun Ride
DESCRIPTION:Come join Ben Franklin Range (BFR)\, in conjunction with Stiller Motor Sports\, for our Big Fun Ride on our over 65 miles of scenic trails throughout 1\,100+acres of land. This is a day of Great Family Fun. Trails range from beginner to challenging and everything in between (rocks\, water\, hills\, open land\, mud pit\, great views everywhere). All types of off road vehicles welcome – 4×4’s\, ATV’s\, Side-by-sides\, Dirt Bikes\, Rock Buggies\, Jeeps\, Broncos\, Range Rovers\, FJ’s\, anything off road worthy. We have maps that can be digitally downloaded for a variety of apps: website for maps – https://benfranklinrange.com/open-ride/ \nGate Day Fees: \n$25 per Driver \n$20 per Passanger/Spectator \nKids under 12 FREE with their families \nPlease have exact change at Gate \nNo money will be returned \nTrail maps available online and at gate printed out \nCheck out our BFR Dirty Dozen! 12 great places along our trails to take photos and post online with hashtag: #BFRDirtyDozen – See them on the map at: https://benfranklinrange.com/open-ride/ and on the map on the apps. \n1 – The Squeeze – Very Hard \n2 – Land Mines – Moderate \n3 – Rocky Road – Moderate \n4 – K9 Climb – Moderate \n5 – Slick Rock – Difficult \n6 – No Doubt – Difficult \n7 – Sniper Ledge – Difficult \n8 – Waterfall Crawl – Hard \n9 – Dirty Money – Hard \n10 – The Can Am Crew Crawl – EXTREME \n11 – The PITT – Easy (H2P) \n12 – Entrance Sign – Easy \nBONUS: \nA – Russian Roulette \nB – Highway to Heaven \nC – Picture Perfect \nD – Stair Steps \nE – Muddy Waters \nF – Power Lines. \nInstagram Challenge:\nCome to the Big Fun Ride and take your best photos and post them online using our Hashtags: \n#BFRMUD – Post the photo(s) showing off your fun in the mud at BFR during the Big Fun Ride \n#BFRMOD – Post the photo(s) showing off your vehicle’s best modification at BFR during the Big Fun Ride \n#BFRFAMILY – Post the photo(s) showing off your family fun at BFR during the Big Fun Ride \nTake the photos\, post\, tag them and comment on each others – You could win BFR Prizes!! Don’t forget to ad hashtag #BFR \nGreat Family Fun!
URL:https://benfranklinrange.com/event1/bfr-stiller-motorsports-big-fun-ride-3/
LOCATION:Ben Franklin Range\, 1130 Ridge Road\, Templeton\, PA\, 16259\, United States
CATEGORIES:Off-Road
ATTACH;FMTTYPE=image/jpeg:https://benfranklinrange.com/wp-content/uploads/2022/11/IMG_0432-scaled.jpeg
END:VEVENT
BEGIN:VEVENT
DTSTART;TZID=America/New_York:20230326T100000
DTEND;TZID=America/New_York:20230326T170000
DTSTAMP:20260420T173541
CREATED:20230217T213844Z
LAST-MODIFIED:20230316T183645Z
UID:10000036-1679824800-1679850000@benfranklinrange.com
SUMMARY:Ben Franklin Range - REVOLUTION
DESCRIPTION:Ben Franklin Range presents\, \nA Victor Anderson & Amped Airsoft event \nRevolution Series Scenario Game: \nOperation – Coercion \nTeams & BDU Requirements: \n\nCivilians: Green Based Camo (M81\, Multicam Tropic\, Marpat\, AOR2) Civilian Clothing – Gear must be Solid Color or Green Camo pattern or Multicam Black\nMilitary: Tan Based Camo – Mulitcam\, Desert Tan\, AOR-1 or ACU BDUs – Gear Must be Solid Color or Tan Based Camo pattern\n\nSpawn/Medic Rules: \nMedics will be nominated on game day at a ratio of 1 medic to each 5 players. Medic shall use the players bandage and count to 30 as they apply the bandage to the players arm. After that “wounded” player is revived they may return to play. If the revived player is hit again\, they must return to their closest respawn point.  If a player is down\, and no medics are near\, or the medic is wounded\, that player may return to their HQ/Spawn\, at which point they are revived\, remove their bandage and may continue play. \nGeneral Rules: \n\nHpa tank fills will be available onsite\nFull seal googles are required\, lower mesh masks or some kind of mouth protection is recommended\, but not required.\nCall your hits.\nHelp newer players if you can.\nHave fun.\nStandard Rifle – Semi Only – 1.7J with .32 BBs (Max BB weight of .4)\nSAW (Limit 1 Per 5 Man Squad) – 1.7J with .32 BB – Minimum Engagement Distance – 20’ (Max BB weight of .36)\na. Box Mag\nb. No High Caps\nc. Must be equivalent to Real SAW (If you are unsure\, please ask)\nSniper/DMR – Semi only – 1.86J with .32 BB (Max BB weight of .48)\na. 100’ Minimum Engagement Distance\nb. Must have backup weapon\nHPA Weapons\na. Air Systems will be cable locked after chrono\n\nAge Requirements: \n\nMust be 18 year of age or older to participate\nIf under 16 – Must Parent/Guardian sign waiver and Attend event\n\n  \nPlease sign online Waiver when Registering
URL:https://benfranklinrange.com/event1/ben-franklin-range-revolution/
LOCATION:Ben Franklin Range\, 1130 Ridge Road\, Templeton\, PA\, 16259\, United States
CATEGORIES:Airsoft,Events
ATTACH;FMTTYPE=image/png:https://benfranklinrange.com/wp-content/uploads/2023/02/bfr_revolution_banner01.png
ORGANIZER;CN="Ben Franklin Range":MAILTO:info@benfranklinrange.com
END:VEVENT
END:VCALENDAR