BEGIN:VCALENDAR
VERSION:2.0
PRODID:-//Ben Franklin Range - ECPv6.15.20//NONSGML v1.0//EN
CALSCALE:GREGORIAN
METHOD:PUBLISH
X-ORIGINAL-URL:https://benfranklinrange.com
X-WR-CALDESC:Events for Ben Franklin Range
REFRESH-INTERVAL;VALUE=DURATION:PT1H
X-Robots-Tag:noindex
X-PUBLISHED-TTL:PT1H
BEGIN:VTIMEZONE
TZID:America/New_York
BEGIN:DAYLIGHT
TZOFFSETFROM:-0500
TZOFFSETTO:-0400
TZNAME:EDT
DTSTART:20220313T070000
END:DAYLIGHT
BEGIN:STANDARD
TZOFFSETFROM:-0400
TZOFFSETTO:-0500
TZNAME:EST
DTSTART:20221106T060000
END:STANDARD
BEGIN:DAYLIGHT
TZOFFSETFROM:-0500
TZOFFSETTO:-0400
TZNAME:EDT
DTSTART:20230312T070000
END:DAYLIGHT
BEGIN:STANDARD
TZOFFSETFROM:-0400
TZOFFSETTO:-0500
TZNAME:EST
DTSTART:20231105T060000
END:STANDARD
BEGIN:DAYLIGHT
TZOFFSETFROM:-0500
TZOFFSETTO:-0400
TZNAME:EDT
DTSTART:20240310T070000
END:DAYLIGHT
BEGIN:STANDARD
TZOFFSETFROM:-0400
TZOFFSETTO:-0500
TZNAME:EST
DTSTART:20241103T060000
END:STANDARD
END:VTIMEZONE
BEGIN:VTIMEZONE
TZID:UTC
BEGIN:STANDARD
TZOFFSETFROM:+0000
TZOFFSETTO:+0000
TZNAME:UTC
DTSTART:20220101T000000
END:STANDARD
END:VTIMEZONE
BEGIN:VEVENT
DTSTART;TZID=America/New_York:20230211T180000
DTEND;TZID=America/New_York:20230211T220000
DTSTAMP:20260420T193244
CREATED:20230112T155353Z
LAST-MODIFIED:20230116T160423Z
UID:10000005-1676138400-1676152800@benfranklinrange.com
SUMMARY:AHT & BFR - Night Shoot
DESCRIPTION:This is it everyone!!! \nWe are having a night shoot with our NEW Prefered Training  Partner Achilles Heel Tactical  – Rick and his staff will be part of our Night shoot going over the exciting classes\, training opportunities and other event we are planning at Ben Franklin Range. He might even run a few drills with everyone! \n  \nWe are extremely excited to have Achilles Heel Tactical as our Preferred Training Partner at BFR – Rick and his staff bring a lifetime of excellent experience and exciting opportunities to our friends here at BFR. \n  \nThe BFR Night Shoot will give you the opportunity to come out and shoot using Night Vision. Bring your own guns and ammo. Loaner Night Vision will be available for attendees to use. \n  \nMUST Pay online and sign waiver online prior to event:\nNo Registration at gate for this Event\nPlease sign Waiver online
URL:https://benfranklinrange.com/event1/aht-bfr-night-shoot/
LOCATION:Ben Franklin Range\, 1130 Ridge Road\, Templeton\, PA\, 16259\, United States
CATEGORIES:Events,Night Shoots
ATTACH;FMTTYPE=image/jpeg:https://benfranklinrange.com/wp-content/uploads/2023/01/bfr_aht_base_event.jpg
END:VEVENT
BEGIN:VEVENT
DTSTART;TZID=UTC:20230219T090000
DTEND;TZID=UTC:20230219T170000
DTSTAMP:20260420T193244
CREATED:20230114T182523Z
LAST-MODIFIED:20230119T195744Z
UID:10000015-1676797200-1676826000@benfranklinrange.com
SUMMARY:BFR & Stiller Motorsports - Big Fun Ride
DESCRIPTION:Come join Ben Franklin Range (BFR)\, in conjunction with Stiller Motor Sports\, for our Big Fun Ride on our over 65 miles of scenic trails throughout 1\,100+acres of land. This is a day of Great Family Fun. Trails range from beginner to challenging and everything in between (rocks\, water\, hills\, open land\, mud pit\, great views everywhere). All types of off road vehicles welcome – 4×4’s\, ATV’s\, Side-by-sides\, Dirt Bikes\, Rock Buggies\, Jeeps\, Broncos\, Range Rovers\, FJ’s\, anything off road worthy. We have maps that can be digitally downloaded for a variety of apps: website for maps – https://benfranklinrange.com/open-ride/ \nGate Day Fees: \n$25 per Driver \n$20 per Passanger/Spectator \nKids under 12 FREE with their families \nPlease have exact change at Gate \nNo money will be returned \nTrail maps available online and at gate printed out \nCheck out our BFR Dirty Dozen! 12 great places along our trails to take photos and post online with hashtag: #BFRDirtyDozen – See them on the map at: https://benfranklinrange.com/open-ride/ and on the map on the apps. \n1 – The Squeeze – Very Hard \n2 – Land Mines – Moderate \n3 – Rocky Road – Moderate \n4 – K9 Climb – Moderate \n5 – Slick Rock – Difficult \n6 – No Doubt – Difficult \n7 – Sniper Ledge – Difficult \n8 – Waterfall Crawl – Hard \n9 – Dirty Money – Hard \n10 – The Can Am Crew Crawl – EXTREME \n11 – The PITT – Easy (H2P) \n12 – Entrance Sign – Easy \nBONUS: \nA – Russian Roulette \nB – Highway to Heaven \nC – Picture Perfect \nD – Stair Steps \nE – Muddy Waters \nF – Power Lines. \nInstagram Challenge:\nCome to the Big Fun Ride and take your best photos and post them online using our Hashtags: \n#BFRMUD – Post the photo(s) showing off your fun in the mud at BFR during the Big Fun Ride \n#BFRMOD – Post the photo(s) showing off your vehicle’s best modification at BFR during the Big Fun Ride \n#BFRFAMILY – Post the photo(s) showing off your family fun at BFR during the Big Fun Ride \nTake the photos\, post\, tag them and comment on each others – You could win BFR Prizes!! Don’t forget to ad hashtag #BFR \nGreat Family Fun!
URL:https://benfranklinrange.com/event1/bfr-stiller-motorsports-big-fun-ride-2/
LOCATION:Ben Franklin Range\, 1130 Ridge Road\, Templeton\, PA\, 16259\, United States
CATEGORIES:Off-Road
ATTACH;FMTTYPE=image/jpeg:https://benfranklinrange.com/wp-content/uploads/2022/11/IMG_0432-scaled.jpeg
END:VEVENT
END:VCALENDAR