BEGIN:VCALENDAR
VERSION:2.0
PRODID:-//Ben Franklin Range - ECPv6.15.20//NONSGML v1.0//EN
CALSCALE:GREGORIAN
METHOD:PUBLISH
X-ORIGINAL-URL:https://benfranklinrange.com
X-WR-CALDESC:Events for Ben Franklin Range
REFRESH-INTERVAL;VALUE=DURATION:PT1H
X-Robots-Tag:noindex
X-PUBLISHED-TTL:PT1H
BEGIN:VTIMEZONE
TZID:America/New_York
BEGIN:DAYLIGHT
TZOFFSETFROM:-0500
TZOFFSETTO:-0400
TZNAME:EDT
DTSTART:20220313T070000
END:DAYLIGHT
BEGIN:STANDARD
TZOFFSETFROM:-0400
TZOFFSETTO:-0500
TZNAME:EST
DTSTART:20221106T060000
END:STANDARD
BEGIN:DAYLIGHT
TZOFFSETFROM:-0500
TZOFFSETTO:-0400
TZNAME:EDT
DTSTART:20230312T070000
END:DAYLIGHT
BEGIN:STANDARD
TZOFFSETFROM:-0400
TZOFFSETTO:-0500
TZNAME:EST
DTSTART:20231105T060000
END:STANDARD
BEGIN:DAYLIGHT
TZOFFSETFROM:-0500
TZOFFSETTO:-0400
TZNAME:EDT
DTSTART:20240310T070000
END:DAYLIGHT
BEGIN:STANDARD
TZOFFSETFROM:-0400
TZOFFSETTO:-0500
TZNAME:EST
DTSTART:20241103T060000
END:STANDARD
END:VTIMEZONE
BEGIN:VEVENT
DTSTART;TZID=America/New_York:20230719T090000
DTEND;TZID=America/New_York:20230721T170000
DTSTAMP:20260423T001253
CREATED:20230510T012719Z
LAST-MODIFIED:20230719T144147Z
UID:10000045-1689757200-1689958800@benfranklinrange.com
SUMMARY:Praecore Performance Shooting Lodge for Classes - July 18 - 21
DESCRIPTION:Ben Franklin Range is proud to welcome: \nPraecore Performance Shooting\nfor several classes \nDistance Carbine Block 1 Class\nWednesday July 19 – Thursday July 20 \nand \nObservational Field Skill Builder Class\nFriday July 21 \n  \nWe are offering onsite lodging for 12 students for these events – The costs are $60/per night per person and a one time cleaning fee per stay of $30/person per entire stay (plus tax) \n  \nYou may select individual night PLUS add the one time cleaning fee per stay \nLodging includes: \n\n1 bunk\nStorage Locker (please provide own lock for stand up lockers)\nAccess to 2 full baths\nKitchenette\nCommon area\nOn-site free parking\nLinens and Towels included\n\nCleaning fee is one time charge per stay – Cleaning fee is separate one time charge \nNo onsite camping options at all available for this event – If students wish to camp they need to find alternate site arrangements \n  \nPlease sign waiver along with registering
URL:https://benfranklinrange.com/event1/praecore-performance-shooting-lodge-for-classes-july-18-21/
LOCATION:Ben Franklin Range\, 1130 Ridge Road\, Templeton\, PA\, 16259\, United States
CATEGORIES:Lodging
ATTACH;FMTTYPE=image/png:https://benfranklinrange.com/wp-content/uploads/2023/05/bfr_praecore_lodge.png
END:VEVENT
BEGIN:VEVENT
DTSTART;TZID=America/New_York:20230707T170000
DTEND;TZID=America/New_York:20230709T170000
DTSTAMP:20260423T001253
CREATED:20230310T160611Z
LAST-MODIFIED:20230707T124158Z
UID:10000041-1688749200-1688922000@benfranklinrange.com
SUMMARY:Orion Lodging - Friday July 7 thru Sunday July 9 with a Bonus Night Option
DESCRIPTION:Lodging for Orion Training Group Classes \nLodging on-site at Ben Franklin Range for Friday July 7 thru Sunday July 9 with an option to add Sunday night to the stay \nLodging includes: \n\n1 bunk\nStorage Locker (please provide own lock for stand up lockers)\nAccess to 3 full baths\nKitchenette\nCommon area\nOn-site free parking\nLinens and Towels included\n\nThere is NO camping on property option for this event – Must stay in Lodge or other accommodations off property \nCleaning fee is one time charge per stay – You will have to register for the separate please \n  \nSelect at Ticket below and Sign online waiver
URL:https://benfranklinrange.com/event1/orion-lodging-friday-july-7-thru-sunday-july-9-with-a-bonus-night-option/
LOCATION:Ben Franklin Range\, 1130 Ridge Road\, Templeton\, PA\, 16259\, United States
CATEGORIES:Classes,Lodging
ATTACH;FMTTYPE=image/png:https://benfranklinrange.com/wp-content/uploads/2023/03/bfr_lodging_banner.png
ORGANIZER;CN="Ben Franklin Range":MAILTO:info@benfranklinrange.com
END:VEVENT
BEGIN:VEVENT
DTSTART;TZID=America/New_York:20230531T170000
DTEND;TZID=America/New_York:20230604T170000
DTSTAMP:20260423T001253
CREATED:20230309T204739Z
LAST-MODIFIED:20230310T154639Z
UID:10000040-1685552400-1685898000@benfranklinrange.com
SUMMARY:Lodging for AHT Courses - May 31 through June 4 AND Extra Night to June 5
DESCRIPTION:Lodging for Achilles Heel Tactical Classes \nLodging on-site at Ben Franklin Range for Wednesday May 31 thru Sunday June 4 with Single night stay options \nLodging includes: \n\n1 bunk\nStorage Locker (please provide own lock for stand up lockers)\nAccess to 3 full baths\nKitchenette\nCommon area\nOn-site free parking\nLinens and Towels included\n\nThere will be no mid week cleaning of the Lodge – Please take care for the week \nCleaning fee is one time charge per stay – You will have to register for the separate please \nFor these AHT Classes – There is NO on-site camping\, wilderness camping or primitive camping – Please reserve a bunk at the lodge \n  \nPlease sign waiver along with registering
URL:https://benfranklinrange.com/event1/lodging-for-aht-courses-may-31-through-june-4/
LOCATION:Ben Franklin Range\, 1130 Ridge Road\, Templeton\, PA\, 16259\, United States
CATEGORIES:Classes,Lodging
ATTACH;FMTTYPE=image/png:https://benfranklinrange.com/wp-content/uploads/2023/03/bfr_lodging_banner.png
ORGANIZER;CN="Ben Franklin Range":MAILTO:info@benfranklinrange.com
END:VEVENT
BEGIN:VEVENT
DTSTART;TZID=America/New_York:20230527T090000
DTEND;TZID=America/New_York:20230527T160000
DTSTAMP:20260423T001253
CREATED:20230512T173417Z
LAST-MODIFIED:20230523T172226Z
UID:10000046-1685178000-1685203200@benfranklinrange.com
SUMMARY:Foundations of Practical Short Range Radio Class and Lodging
DESCRIPTION:The first in a family-friendly series of courses at BF aimed at enhancing community knowledge in short\, medium and long-range radio.  Whether your use case is a first set of family radios for off-grid hiking and camping\, increasing your neighborhood or community’s ability to respond to disasters\, or surving and thriving in the zombie apocalypse\, this radio series is for you. We aim to meet the audience where they are\, whether you are considering radio for the first time or you are an accomplished HAM\, corporate or LEO/MIL commo who wants to apply your skills in new ways to connect and support your local and distant communities.  This not a “HAM Prep” course though some topics contain some foundational HAM knowledge. \nCourse is being offered at a discount for its first-time offering. \nTOPICS AREAS: “Foundations of Practical Short Range Radio” \n\nContexts for short range radio use\, and why should you care\nTypical gear and setups for various contexts\nIntro to radio programming\nSome considerations and concerns with radio in the community\nExtended information as time permits\n\nClass is $60 per person including a pizza lunch on Saturday. \nCourse material will be classroom-based in the BF training facility\, starting at 9am and running to roughly 5pm. A refrigerator and microwave is available if bringing your own snacks.  A pizza lunch will be provided on Saturday. Dinner after the course is up to the participants\, but we can enjoy a local restaurant together on Saturday night and return to the facility for futher conversation\, video or checking out gear. \nLodging is available at BFR any of Friday\, Saturday or Sunday nights.  The instructor will stay on premise as well for continued opportunity to discuss the class or related topics. Lodging is $60 per night\, plus a once-per-stay $30 cleaning fee per person. \nThe Sunday following class is a range day at BF for the “Greyman Network” folks\, and radio class attendees are welcome to participate at the reduced rate of $30 for the range day.  Sunday will be open format pistol & rifle shooting and socializing with members of greyman. network and fans of Warrior Poet Society. \nAs time permits at the Foundations course we can begin to discuss other future course plans and some of those topics as well.  Future courses in this series will include medium-range/long-range/strategic comms and other topics similar to the following: \n“Advanced and Strategic Radio Topics” \n\nStrategic communication contexts\nNapkin Radio Physics\nMedium & Long Range radio uses\nInteresting and accessible equipment and software\nEncryption\nAccessible testing equipment & uses\nRelated non-technical skills\n\nABOUT THE INSTRUCTOR \nThe instructor has decades of professional experience as a digital innovator\, spanning the globe on land\, sea (global vessel tracking) and space (manned and unmanned space programs). His career has covered enterprise\, government\, military\, medical\, oil & gas\, trading\, startups\, and more. \nHe currently works in software development within the mobile and set-top consumer video industry\, an industry he first worked in at Apple\, and there is a good chance you have “his” software on your phone. With two degrees in Engineering\, he is not a formal HAM\, but programs the commercial radios for BF operations\, and engages in various other related projects. He is deeply interested in supporting and blending radio\, shooting\, and positive community-building groups in the BFR region and across our country.  In his free time he does things like teach this class\, supports and participates in various shooting/operator related events\, is active on https://greyman.network\, is active in church\, or hangs out with other long-time fans of Warrior Poet Society. \nPlease select ticket below for the Class \nAlso – Select individual night for lodging and select the one time cleaning fee per stay \nNo primitive camping available for this event \nPlease sign online waiver for lodging
URL:https://benfranklinrange.com/event1/foundations-of-practical-short-range-radio-class-and-lodging/
LOCATION:Ben Franklin Range\, 1130 Ridge Road\, Templeton\, PA\, 16259\, United States
CATEGORIES:Classes,Lodging
ATTACH;FMTTYPE=image/png:https://benfranklinrange.com/wp-content/uploads/2023/05/bfr_class_event_header-1.png
ORGANIZER;CN="Ben Franklin Range":MAILTO:info@benfranklinrange.com
END:VEVENT
BEGIN:VEVENT
DTSTART;TZID=America/New_York:20230519T170000
DTEND;TZID=America/New_York:20230520T170000
DTSTAMP:20260423T001253
CREATED:20230309T193314Z
LAST-MODIFIED:20230517T175415Z
UID:10000039-1684515600-1684602000@benfranklinrange.com
SUMMARY:Lodging for AHT @ BFR Range Day - Lodging Friday May 19 OR Saturday May 20th
DESCRIPTION:Lodging on-site at Ben Franklin Range for Friday before the event OR Saturday after the event – can choose on or both (Note – if choosing both  – 1 cleaning fee will be refunded) \nLodging includes: \n\n1 bunk\nStorage Locker (please provide own lock for stand up lockers)\nAccess to 3 full baths\nKitchenette\nCommon area\nOn-site free parking\nLinens and Towels included\n\nSelect at Ticket below and Sign online waiver
URL:https://benfranklinrange.com/event1/aht-bfr-range-day-lodging-friday-may-19-saturday-may-20th/
LOCATION:Ben Franklin Range\, 1130 Ridge Road\, Templeton\, PA\, 16259\, United States
CATEGORIES:Events,Lodging
ATTACH;FMTTYPE=image/png:https://benfranklinrange.com/wp-content/uploads/2023/03/bfr_lodging_banner.png
ORGANIZER;CN="Ben Franklin Range":MAILTO:info@benfranklinrange.com
END:VEVENT
BEGIN:VEVENT
DTSTART;TZID=America/New_York:20230421T170000
DTEND;TZID=America/New_York:20230423T170000
DTSTAMP:20260423T001253
CREATED:20230306T220648Z
LAST-MODIFIED:20230309T194445Z
UID:10000037-1682096400-1682269200@benfranklinrange.com
SUMMARY:Lodging for AHT @ BFR Baseline Pistol and Baseline Carbine Courses
DESCRIPTION:Lodging on-site at Ben Franklin Range \nLodging includes: \n\n1 bunk\nStorage Locker (please provide own lock for stand up lockers)\nAccess to 3 full baths\nKitchenette\nCommon area\nOn-site free parking\nLinens and Towels included\n\nLodging option below \n1 – Two Night – Check in Friday April 21 at 5pm – Check out Sunday April 23 after the end of the Baseline Carbine Class \nSelect at Ticket below and Sign online waiver
URL:https://benfranklinrange.com/event1/aht-bfr-lodging-for-baseline-pistol-and-or-baseline-carbine-courses/
LOCATION:Ben Franklin Range\, 1130 Ridge Road\, Templeton\, PA\, 16259\, United States
CATEGORIES:Lodging
ATTACH;FMTTYPE=image/png:https://benfranklinrange.com/wp-content/uploads/2023/03/bfr_lodging_banner.png
ORGANIZER;CN="Ben Franklin Range":MAILTO:info@benfranklinrange.com
END:VEVENT
BEGIN:VEVENT
DTSTART;TZID=America/New_York:20230402T170000
DTEND;TZID=America/New_York:20230407T170000
DTSTAMP:20260423T001253
CREATED:20230309T161731Z
LAST-MODIFIED:20230329T164552Z
UID:10000038-1680454800-1680886800@benfranklinrange.com
SUMMARY:Warrior Poet Society  - Lodging - Sunday April 2 Thru Friday April 7
DESCRIPTION:Lodging for Warrior Poet Society Classes \nLodging on-site at Ben Franklin Range for Sunday April 2 Thru Friday April 7 with Single night stay options \nLodging includes: \n\n1 bunk\nStorage Locker (please provide own lock for stand up lockers)\nAccess to 3 full baths\nKitchenette\nCommon area\nOn-site free parking\nLinens and Towels included\n\nThere will be no mid week cleaning of the Lodge – Please take care for the week \nCleaning fee is one time charge per stay – You will have to register for the separate please \nNo onsite camping options at all available for this event – If students wish to camp they meed to find alternate site arrangements \n  \nPlease sign waiver along with registering
URL:https://benfranklinrange.com/event1/warrior-poet-society-lodging-sunday-april-2-thru-friday-april-7/
LOCATION:Ben Franklin Range\, 1130 Ridge Road\, Templeton\, PA\, 16259\, United States
CATEGORIES:Classes,Lodging
ATTACH;FMTTYPE=image/png:https://benfranklinrange.com/wp-content/uploads/2023/03/bfr_lodging_banner.png
ORGANIZER;CN="Ben Franklin Range":MAILTO:info@benfranklinrange.com
END:VEVENT
END:VCALENDAR