BEGIN:VCALENDAR
VERSION:2.0
PRODID:-//Ben Franklin Range - ECPv6.15.20//NONSGML v1.0//EN
CALSCALE:GREGORIAN
METHOD:PUBLISH
X-WR-CALNAME:Ben Franklin Range
X-ORIGINAL-URL:https://benfranklinrange.com
X-WR-CALDESC:Events for Ben Franklin Range
REFRESH-INTERVAL;VALUE=DURATION:PT1H
X-Robots-Tag:noindex
X-PUBLISHED-TTL:PT1H
BEGIN:VTIMEZONE
TZID:America/New_York
BEGIN:DAYLIGHT
TZOFFSETFROM:-0500
TZOFFSETTO:-0400
TZNAME:EDT
DTSTART:20230312T070000
END:DAYLIGHT
BEGIN:STANDARD
TZOFFSETFROM:-0400
TZOFFSETTO:-0500
TZNAME:EST
DTSTART:20231105T060000
END:STANDARD
BEGIN:DAYLIGHT
TZOFFSETFROM:-0500
TZOFFSETTO:-0400
TZNAME:EDT
DTSTART:20240310T070000
END:DAYLIGHT
BEGIN:STANDARD
TZOFFSETFROM:-0400
TZOFFSETTO:-0500
TZNAME:EST
DTSTART:20241103T060000
END:STANDARD
BEGIN:DAYLIGHT
TZOFFSETFROM:-0500
TZOFFSETTO:-0400
TZNAME:EDT
DTSTART:20250309T070000
END:DAYLIGHT
BEGIN:STANDARD
TZOFFSETFROM:-0400
TZOFFSETTO:-0500
TZNAME:EST
DTSTART:20251102T060000
END:STANDARD
END:VTIMEZONE
BEGIN:VEVENT
DTSTART;TZID=America/New_York:20241102T183000
DTEND;TZID=America/New_York:20241102T230000
DTSTAMP:20260425T190247
CREATED:20241010T145603Z
LAST-MODIFIED:20241010T145603Z
UID:10000141-1730572200-1730588400@benfranklinrange.com
SUMMARY:NIGHT SHOOT - Saturday November 2
DESCRIPTION:Ben Franklin Range is proud to welcome back\nREDLINE Consulting\nSaturday November 2\nNIGHT SHOOT\n  \nGates open at 6:30pm – Event Over at 11:00pm\nMUST ARRIVE BY 7:30PM\nNO Admission after 7:30PM because of Safety Brief\nEvent has Limited Availability\n$50/Participant (no guests allowed)\n  \nJoin us for this very limited event – Spring Night Shoot – White Light and NVG \nDetails: \n\nSaturday November 2rd\nGates open at 6:30pm\nAll parties MUST arrive by 7:30PM – No Late admissions\nLimited Availability\nMust Register online and pay for a ticket prior to this event\nNO TICKETS SOLD AT GATE THE DAY OF THE EVENT\nOnly 30 Slots available\nVarious Shooting Stages/Competitions\nWhite light or NVG\nRed Line Consulting and BFR Event\n\nMUST SIGN ONLINE WAIVER PRIOR TO THE EVENT \nOnline waiver \nAll participants MUST have emailed ticket and email proof of online waiver signed at the gate – No one admitted after 7:30PM \nNo on site camping for this event
URL:https://benfranklinrange.com/event1/night-shoot-saturday-november-2/
LOCATION:Ben Franklin Range\, 1130 Ridge Road\, Templeton\, PA\, 16259\, United States
CATEGORIES:Events,Night Shoots
ATTACH;FMTTYPE=image/png:https://benfranklinrange.com/wp-content/uploads/2024/05/bfr_night_shoot_banner.png
ORGANIZER;CN="Ben Franklin Range":MAILTO:info@benfranklinrange.com
END:VEVENT
BEGIN:VEVENT
DTSTART;TZID=America/New_York:20241115T160000
DTEND;TZID=America/New_York:20241117T160000
DTSTAMP:20260425T190247
CREATED:20241008T141241Z
LAST-MODIFIED:20241008T142401Z
UID:10000139-1731686400-1731859200@benfranklinrange.com
SUMMARY:The Can Am Crew - Invitation only weekend ride
DESCRIPTION:The Can Am Crew\nInvitation only weekend ride\nNovember 15-17\n$100/Vehicle\n  \nThe Can Am Crew will be holing an invitation only ride weekend at Ben Franklin Range. Very limited access the entire event is capped at 100 vehicles. Be apart of the fun and enjoy the entire 1\,100+ acres and over 75 miles of trials with you and your friends. \nContact the Can Am Crew for special code to register \nMust pre-pay for this event below \nFriday November 15 \n\nGates open at 4pm\nRegistration and check in\nNo Riding\nPrimitive Camping on site\n\nSaturday November 16 \n\nRide all day with the Can Am Crew\nFun events and access with the Can Am Crew\nVideo Opportunities\nSpecial Night Ride\nPrimitive Camping on site\n\nSunday November 17 \n\nRide all day with the Can Am Crew\nOff Property by 4pm
URL:https://benfranklinrange.com/event1/the-can-am-crew-invitation-only-weekend-ride/
LOCATION:Ben Franklin Range\, 1130 Ridge Road\, Templeton\, PA\, 16259\, United States
CATEGORIES:Events,Off-Road
ATTACH;FMTTYPE=image/jpeg:https://benfranklinrange.com/wp-content/uploads/2024/10/bfr_can_am_invite_header.jpg
END:VEVENT
BEGIN:VEVENT
DTSTART;TZID=America/New_York:20241124T090000
DTEND;TZID=America/New_York:20241124T170000
DTSTAMP:20260425T190247
CREATED:20240106T210444Z
LAST-MODIFIED:20240106T210522Z
UID:10000093-1732438800-1732467600@benfranklinrange.com
SUMMARY:Big Fun Ride - Sunday November 24th
DESCRIPTION:Big Fun Ride\nSunday November 24th\n \nCome join Ben Franklin Range (BFR)\, in conjunction with Stiller Motor Sports\, for our Big Fun Ride on our over 65 miles of scenic trails throughout 1\,100+acres of land. This is a day of Great Family Fun. Trails range from beginner to challenging and everything in between (rocks\, water\, hills\, open land\, mud pit\, great views everywhere). All types of off road vehicles welcome – 4×4’s\, ATV’s\, Side-by-sides\, Dirt Bikes\, Rock Buggies\, Jeeps\, Broncos\, Range Rovers\, FJ’s\, anything off road worthy. We have maps that can be digitally downloaded for a variety of apps: website for maps – https://benfranklinrange.com/big-fun-ride/ \nGate Day Fees:\n\nGates Open at 9AM\nMust be off property by 5PM\n$25 per Driver\n$20 per Passanger/Spectator\nKids under 12 FREE with their families\nPlease have exact change at Gate\nNo money will be returned\nTrail maps available online and at gate printed out\n\nBFR Dirty Dozen:\nCheck out our BFR Dirty Dozen! 12 great places along our trails to take photos and post online with hashtag: #BFRDirtyDozen – See them on the map at: https://benfranklinrange.com/big-fun-ride/ and on the map on the apps. \n1 – The Squeeze – Very Hard \n2 – Land Mines – Moderate \n3 – Rocky Road – Moderate \n4 – K9 Climb – Moderate \n5 – Slick Rock – Difficult \n6 – No Doubt – Difficult \n7 – Sniper Ledge – Difficult \n8 – Waterfall Crawl – Hard \n9 – Dirty Money – Hard \n10 – The Can Am Crew Crawl – EXTREME \n11 – The PITT – Easy (H2P) \n12 – Entrance Sign – Easy \nBONUS: \nA – Russian Roulette \nB – Highway to Heaven \nC – Picture Perfect \nD – Stair Steps \nE – Muddy Waters \nF – Power Lines. \nInstagram Challenge:\nCome to the Big Fun Ride and take your best photos and post them online using our Hashtags: \n#BFRMUD – Post the photo(s) showing off your fun in the mud at BFR during the Big Fun Ride \n#BFRMOD – Post the photo(s) showing off your vehicle’s best modification at BFR during the Big Fun Ride \n#BFRFAMILY – Post the photo(s) showing off your family fun at BFR during the Big Fun Ride \nTake the photos\, post\, tag them and comment on each others – You could win BFR Prizes!! Don’t forget to ad hashtag #BFR \nGreat Family Fun!
URL:https://benfranklinrange.com/event1/big-fun-ride-sunday-november-24th/
LOCATION:Ben Franklin Range\, 1130 Ridge Road\, Templeton\, PA\, 16259\, United States
CATEGORIES:Events,Off-Road
ATTACH;FMTTYPE=image/jpeg:https://benfranklinrange.com/wp-content/uploads/2024/01/bfr_big_fun_ride_event_top.jpg
ORGANIZER;CN="Ben Franklin Range":MAILTO:info@benfranklinrange.com
END:VEVENT
END:VCALENDAR