BEGIN:VCALENDAR
VERSION:2.0
PRODID:-//Ben Franklin Range - ECPv6.15.20//NONSGML v1.0//EN
CALSCALE:GREGORIAN
METHOD:PUBLISH
X-ORIGINAL-URL:https://benfranklinrange.com
X-WR-CALDESC:Events for Ben Franklin Range
REFRESH-INTERVAL;VALUE=DURATION:PT1H
X-Robots-Tag:noindex
X-PUBLISHED-TTL:PT1H
BEGIN:VTIMEZONE
TZID:America/New_York
BEGIN:DAYLIGHT
TZOFFSETFROM:-0500
TZOFFSETTO:-0400
TZNAME:EDT
DTSTART:20220313T070000
END:DAYLIGHT
BEGIN:STANDARD
TZOFFSETFROM:-0400
TZOFFSETTO:-0500
TZNAME:EST
DTSTART:20221106T060000
END:STANDARD
BEGIN:DAYLIGHT
TZOFFSETFROM:-0500
TZOFFSETTO:-0400
TZNAME:EDT
DTSTART:20230312T070000
END:DAYLIGHT
BEGIN:STANDARD
TZOFFSETFROM:-0400
TZOFFSETTO:-0500
TZNAME:EST
DTSTART:20231105T060000
END:STANDARD
BEGIN:DAYLIGHT
TZOFFSETFROM:-0500
TZOFFSETTO:-0400
TZNAME:EDT
DTSTART:20240310T070000
END:DAYLIGHT
BEGIN:STANDARD
TZOFFSETFROM:-0400
TZOFFSETTO:-0500
TZNAME:EST
DTSTART:20241103T060000
END:STANDARD
BEGIN:DAYLIGHT
TZOFFSETFROM:-0500
TZOFFSETTO:-0400
TZNAME:EDT
DTSTART:20250309T070000
END:DAYLIGHT
BEGIN:STANDARD
TZOFFSETFROM:-0400
TZOFFSETTO:-0500
TZNAME:EST
DTSTART:20251102T060000
END:STANDARD
BEGIN:DAYLIGHT
TZOFFSETFROM:-0500
TZOFFSETTO:-0400
TZNAME:EDT
DTSTART:20260308T070000
END:DAYLIGHT
BEGIN:STANDARD
TZOFFSETFROM:-0400
TZOFFSETTO:-0500
TZNAME:EST
DTSTART:20261101T060000
END:STANDARD
BEGIN:DAYLIGHT
TZOFFSETFROM:-0500
TZOFFSETTO:-0400
TZNAME:EDT
DTSTART:20270314T070000
END:DAYLIGHT
BEGIN:STANDARD
TZOFFSETFROM:-0400
TZOFFSETTO:-0500
TZNAME:EST
DTSTART:20271107T060000
END:STANDARD
END:VTIMEZONE
BEGIN:VEVENT
DTSTART;TZID=America/New_York:20260407T080000
DTEND;TZID=America/New_York:20260408T170000
DTSTAMP:20260420T061355
CREATED:20260215T214254Z
LAST-MODIFIED:20260215T214618Z
UID:10000207-1775548800-1775667600@benfranklinrange.com
SUMMARY:BFR - Grey Sky Training - 1st Annual LE Designated Marksman - Competition & Conference April 7 & 8
DESCRIPTION:Grey Sky Training\n1st Annual LE Designated Marksman\nCompetition & Conference\nApril 7 & 8\n  \nTo Register: \n2026 LE Designated Marksman Conference & Competition \n \nhttps://greyskytraining.com/event/le-dm-conference-competition-2026/ \n  \nLaw Enforcement Agencies are increasingly utilizing carbines equipped with magnified optics in dedicated overwatch roles\, both as patrol designated marksman and as SWAT Snipers with SPRs. \nIntent: The purpose of the LE DM Conference/Comp is to instill camaraderie\, build professional relationships\, and enhance tactics\, techniques and procedures in the law enforcement scoped carbine community. \nDay 1 will be a competitive training event designed to hone and test skill through performance-induced stress. Training reduces novelty and builds mental maps for officers to follow during high stress\, critical incidents. Well-trained officers and teams are more confident and less likely to commit tactical errors through poor decision making\, which reduces agency liability. \nDay 2 will be a conference with DM OIS debriefs from major agencies with formal DM programs\, presentations from industry experts\, our nationwide survey results\, vendor show\, and a counter sniper/event overwatch training block. \nAttendees and competitors must be active law enforcement officers. \nSkills: Individual skills will be tested and evaluated. These include: \n\n\n\nRifle marksmanship:\n\nKnown/Unknown distance targets\nPositional Shooting\nTripod employment\n\n\nTarget detection/Observation\nAgility/Urban Scaling\nTrajectory Clearance\nDecision making\nLow-Percentage shots/Dirty Backgrounds\nCBRN operations\n\n\n\nEquipment: Although every real-world engagement is an “open class gunfight”\, this competition is designed to enhance ability with each officer’s issued equipment and events will be designed as such. Although many will discover inadequacies with their equipment during the event\, that is yet another feature of this training format. There will be two classes: “Patrol” (5.56mm carbines using normal ammunition and a max of 10x magnification) and “Open” (.308/6ARC/6MAX/6.5CM/NAS83). \nRound count and packing list will be sent to registered competitors. (Ammo may be shipped to BFR with your name/agency.) \n\nNumber of Competitors: 100 max\nDates: April 7-8\, 2026\, Tuesday – Wednesday\nAirport: Pittsburgh International Airport (18 miles from Hotel/Conference) \n\n\nHotel & Conference Venue: \n\nSheraton Pittsburgh Hotel at Station Square\, 300 West Station Square Drive\, Pittsburgh\, PA 15219 | 412-261-2000 sheratonstationsquare.com\nPer Diem/Govt room rate: $138/night\nVendor room rate: $159/night\nParking: $34/night\n\n\n\n\nRange: Ben Franklin Range\, 1130 Ridge Rd\, Templeton\, PA
URL:https://benfranklinrange.com/event1/bfr-grey-sky-training-1st-annual-le-designated-marksman-competition-conference-april-7-8/
LOCATION:Ben Franklin Range\, 1130 Ridge Road\, Templeton\, PA\, 16259\, United States
CATEGORIES:Competitions
ATTACH;FMTTYPE=image/jpeg:https://benfranklinrange.com/wp-content/uploads/2026/02/bfr_competition_banner.jpg
END:VEVENT
BEGIN:VEVENT
DTSTART;TZID=America/New_York:20250918T170000
DTEND;TZID=America/New_York:20250918T200000
DTSTAMP:20260420T061355
CREATED:20250725T205035Z
LAST-MODIFIED:20250918T175632Z
UID:10000198-1758214800-1758225600@benfranklinrange.com
SUMMARY:DRILL FOR SKILL Ghost Firearms Training Competition Sept 18 5pm - 8pm
DESCRIPTION:DRILL FOR SKILL\nat ben franklin range\nInstruction and Competition\nThursday\, Sept 18\n5pm – 8pm\n  \n$50 entry fee per shooter \nPrizes and prize money for top shooters \n  \nFirst hour: \nWarmup and Instruction Drills by  \nGhost Firearms Training \nhttps://ghostfirearmstraining.com \n  \nLast 2 hours: \nShooting Skills and Competition \n  \nRifle Only \nShooting Range from 7 – 100 yards \n200 round max \n  \nSpace is limited to 30 competitors \nMust by 18 years or older \n  \nAll Competitors must sign the online waiver below prior to attending the event: \nhttps://waiver.smartwaiver.com/w/88ky33b5tcd5cgcrpdx5qr/web/ \n  \nCome out to learn then  \npractice those skills in competitions
URL:https://benfranklinrange.com/event1/drill-for-skill-ghost-firearms-training-competition-sept-18-5pm-8pm/
LOCATION:Ben Franklin Range\, 1130 Ridge Road\, Templeton\, PA\, 16259\, United States
CATEGORIES:Competitions,Events
ATTACH;FMTTYPE=image/png:https://benfranklinrange.com/wp-content/uploads/2023/06/bfr_class_event_header01.png
ORGANIZER;CN="Ben Franklin Range":MAILTO:info@benfranklinrange.com
END:VEVENT
BEGIN:VEVENT
DTSTART;TZID=America/New_York:20250815T150000
DTEND;TZID=America/New_York:20250817T170000
DTSTAMP:20260420T061355
CREATED:20250314T160018Z
LAST-MODIFIED:20250512T223128Z
UID:10000164-1755270000-1755450000@benfranklinrange.com
SUMMARY:BFR & Orion Training Group - Team Sniper Competition - August 15-17
DESCRIPTION:ANNUAL TEAM SNIPER COMPETITION\nAugust 15-17\, 2025\nBen Franklin Range\n1130 Ridge Road\, Templeton PA 16259\n2 Person Team Event\n$600 Team Entry Fee\n  \nFor complete list of rules please click logo below \n \n  \nRegister your team below\nPlease have both team members sign the online waiver when registering:\nONLINE WAIVER LINK
URL:https://benfranklinrange.com/event1/bfr-orion-training-group-team-sniper-competition-august-15-17/
LOCATION:Ben Franklin Range\, 1130 Ridge Road\, Templeton\, PA\, 16259\, United States
CATEGORIES:Competitions,Events
ATTACH;FMTTYPE=image/png:https://benfranklinrange.com/wp-content/uploads/2023/06/bfr_class_event_header01.png
ORGANIZER;CN="Ben Franklin Range":MAILTO:info@benfranklinrange.com
END:VEVENT
BEGIN:VEVENT
DTSTART;TZID=America/New_York:20250628T080000
DTEND;TZID=America/New_York:20250629T170000
DTSTAMP:20260420T061355
CREATED:20250609T232726Z
LAST-MODIFIED:20250609T232726Z
UID:10000181-1751097600-1751216400@benfranklinrange.com
SUMMARY:Lodging - The Proving Grounds - June 28 - 29
DESCRIPTION:Lodging\nThe Proving Grounds\nJune 28 – 29\n  \nRegister for the event: \nhttps://www.raceentry.com/the-proving-grounds-pennsylvania/race-information \n  \nBen Franklin Range Lodging information and registration for this course will be as follows: \n\nCheck In: \nFriday June 27 at 5pm or later \n\nCheck Out: \nSunday June 29 at the end of the event \n\n2 Nights \n$60/Bunk = $120 \nTax = $7.20 \nTotal = $127.20 \n\nPlus one time cleaning fee of $30/Bunk \n$120(bunk) + $30(cleaning) = $150 + $9(tax) = $159.00 Total \n\n\nLodging includes: (click to see BFR Lodge) \n\n1 bunk\nStorage Locker (please provide own lock for stand up lockers)\nAccess to 3 full baths\nKitchenette (Refrigerator\, freezer\, microwave\, coffee maker)\nFull Kitchen\, appliances and fully stocked with supplies\nCommon area\nFree on-site free parking\nLinens and Towels included\nCorner Store for small snack and logo merchandise purchases\n\n\nNo onsite camping options at all available for this event – If students wish to camp they need to find alternate site arrangements \n\n Please click here to sign waiver when registering for a bunk – Must sign waiver before entering Lodge for your stay \n\nShortly before event – Students will receive an email with Lodge Door codes\, Gate codes and various files with information about BFR and the area as well as safety and standard operational procedures of the property \n\nIf you have any questions please contact us: \nCall or Text: (412) 439-8751 \nEmail: info@benfranklinrange.com \n\nPlease note: \nThis registration is for Lodging only – to register for the class please see link above \n  \n 
URL:https://benfranklinrange.com/event1/lodging-the-proving-grounds-june-28-29/
LOCATION:Ben Franklin Range\, 1130 Ridge Road\, Templeton\, PA\, 16259\, United States
CATEGORIES:Competitions,Lodging
ATTACH;FMTTYPE=image/jpeg:https://benfranklinrange.com/wp-content/uploads/2025/05/bfr_lodge_header-web-header.jpg
END:VEVENT
BEGIN:VEVENT
DTSTART;TZID=America/New_York:20250531T200000
DTEND;TZID=America/New_York:20250531T230000
DTSTAMP:20260420T061355
CREATED:20250530T024842Z
LAST-MODIFIED:20250530T112251Z
UID:10000178-1748721600-1748732400@benfranklinrange.com
SUMMARY:Lodging – Redline Consulting Night Time Gas Gun Series – Match #2 May 31
DESCRIPTION:Lodging\nRedline Consulting Night Time Gas Gun Series\nMatch #2\nMay 31\n  \nRegister for the EVENT: \nhttps://redlineconsultingoh.com/product/redline-consulting-night-time-gas-gun-series-match-2-may-2025/ \nBen Franklin Range Lodging information and registration for this course will be as follows: \nCheck In: \nSaturday May 31 at 5pm or later \nCheck Out: \nSunday June 1 by 9am \n1 Nights \n$60/Bunk = $60 \nTax = $3.60 \nTotal = $63.60 \nPlus one time cleaning fee of $30/Bunk \n$60(bunk) + $30(cleaning) = $90 + $5.40(tax) = $95.40 Total \nLodging includes: (click to see BFR Lodge) \n\n1 bunk\nStorage Locker (please provide own lock for stand up lockers)\nAccess to 3 full baths\nKitchenette (Refrigerator\, freezer\, microwave\, coffee maker)\nFull Kitchen\, appliances and fully stocked with supplies\nCommon area\nFree on-site free parking\nLinens and Towels included\nCorner Store for small snack and logo merchandise purchases\n\nNo onsite camping options at all available for this event – If students wish to camp they need to find alternate site arrangements \n Please click here to sign waiver when registering for a bunk – Must sign waiver before entering Lodge for your stay \nShortly before event – Students will receive an email with Lodge Door codes\, Gate codes and various files with information about BFR and the area as well as safety and standard operational procedures of the property \nIf you have any questions please contact us: \nCall or Text: (412) 439-8751 \nEmail: info@benfranklinrange.com \nPlease note: \nThis registration is for Lodging only – to register for the class please see link above
URL:https://benfranklinrange.com/event1/lodging-redline-consulting-night-time-gas-gun-series-match-2-may-31/
LOCATION:Ben Franklin Range\, 1130 Ridge Road\, Templeton\, PA\, 16259\, United States
CATEGORIES:Competitions,Lodging
ATTACH;FMTTYPE=image/jpeg:https://benfranklinrange.com/wp-content/uploads/2025/05/bfr_lodge_header-web-header.jpg
END:VEVENT
BEGIN:VEVENT
DTSTART;TZID=America/New_York:20250527T080000
DTEND;TZID=America/New_York:20250528T170000
DTSTAMP:20260420T061355
CREATED:20250426T232331Z
LAST-MODIFIED:20250426T232331Z
UID:10000174-1748332800-1748451600@benfranklinrange.com
SUMMARY:Lodging – Battle of the Badges – May 27-28
DESCRIPTION:Lodging – Battle of the Badges – May 27-28 \n\n\nRegister for the EVENT: \n\nhttps://www.the-battleofthebadges.com/events-1/2025botb-pa \n\nBen Franklin Range Lodging information and registration for this course will be as follows: \n\nCheck In: \nMonday May 26 at 5pm or later \n\nCheck Out: \nWednesday May 28 after the event \n\n2 Nights \n$60/Bunk = $120 \nTax = $7.20 \nTotal = $127.20 \n\nPlus one time cleaning fee of $30/Bunk \n$120(bunk) + $30(cleaning) = $150 + $9(tax) = $159.00 Total \n\n\nLodging includes: (click to see BFR Lodge) \n\n1 bunk\nStorage Locker (please provide own lock for stand up lockers)\nAccess to 3 full baths\nKitchenette (Refrigerator\, freezer\, microwave\, coffee maker)\nFull Kitchen\, appliances and fully stocked with supplies\nCommon area\nFree on-site free parking\nLinens and Towels included\nCorner Store for small snack and logo merchandise purchases\n\n\nNo onsite camping options at all available for this event – If students wish to camp they need to find alternate site arrangements \n\n Please click here to sign waiver when registering for a bunk – Must sign waiver before entering Lodge for your stay \n\nShortly before event – Students will receive an email with Lodge Door codes\, Gate codes and various files with information about BFR and the area as well as safety and standard operational procedures of the property \n\nIf you have any questions please contact us: \nCall or Text: (412) 439-8751 \nEmail: info@benfranklinrange.com \n\nPlease note: \nThis registration is for Lodging only – to register for the class please see link above
URL:https://benfranklinrange.com/event1/lodging-battle-of-the-badges-may-27-28/
LOCATION:Ben Franklin Range\, 1130 Ridge Road\, Templeton\, PA\, 16259\, United States
CATEGORIES:Competitions,Lodging
ATTACH;FMTTYPE=image/png:https://benfranklinrange.com/wp-content/uploads/2023/07/bfr_lodge_header.png
ORGANIZER;CN="Battle of the Badge":MAILTO:Info@the-battleofthebadges.com
END:VEVENT
BEGIN:VEVENT
DTSTART;TZID=America/New_York:20250502T080000
DTEND;TZID=America/New_York:20250504T170000
DTSTAMP:20260420T061355
CREATED:20250402T205814Z
LAST-MODIFIED:20250402T210017Z
UID:10000172-1746172800-1746378000@benfranklinrange.com
SUMMARY:Lodging – Mile Money Match – Ghost Firearms Training – May 2 - 4
DESCRIPTION:Lodging\nMile Money Match\nGhost Firearms Training\nMay 2 – 4\n  \nRegister for the EVENT: \nhttps://ghostfirearmstraining.com/mile-money-match/ \nBen Franklin Range Lodging information and registration for this course will be as follows: \nCheck In: \nFriday May 2 at 5pm or later \nCheck Out: \nSunday May 4 by at the 9am – or the beginning of the event \nCost: \n2 Nights \n$60/Bunk = $120 \nPlus one time cleaning fee of $30/Bunk \n$120(bunk) + $30(cleaning) = $150 + $9(tax) = $159.00 Total \nLodging includes: (click to see BFR Lodge) \n\n1 bunk\nStorage Locker (please provide own lock for stand up lockers)\nAccess to 3 full baths\nKitchenette (Refrigerator\, freezer\, microwave\, coffee maker)\nFull Kitchen\, appliances and fully stocked with supplies\nCommon area\nFree on-site free parking\nLinens and Towels included\nCorner Store for small snack and logo merchandise purchases\n\nNo onsite camping options at all available for this event – If students wish to camp they need to find alternate site arrangements \n Please click here to sign waiver when registering for a bunk – Must sign waiver before entering Lodge for your stay \nShortly before event – Students will receive an email with Lodge Door codes\, Gate codes and various files with information about BFR and the area as well as safety and standard operational procedures of the property \nIf you have any questions please contact us: \nCall or Text: (412) 439-8751 \nEmail: info@benfranklinrange.com \nPlease note: \nThis registration is for Lodging only – to register for the class please see link above
URL:https://benfranklinrange.com/event1/lodging-mile-money-match-ghost-firearms-training-may-2-4/
LOCATION:Ben Franklin Range\, 1130 Ridge Road\, Templeton\, PA\, 16259\, United States
CATEGORIES:Competitions,Lodging
ATTACH;FMTTYPE=image/png:https://benfranklinrange.com/wp-content/uploads/2023/12/bfr_ghost-firearms-class_lodge_header.png
ORGANIZER;CN="Ghost Firearms Training":MAILTO:ghostfirearmstraining@gmail.com
END:VEVENT
BEGIN:VEVENT
DTSTART;TZID=America/New_York:20240809T150000
DTEND;TZID=America/New_York:20240811T150000
DTSTAMP:20260420T061355
CREATED:20240314T061831Z
LAST-MODIFIED:20240620T121902Z
UID:10000104-1723215600-1723388400@benfranklinrange.com
SUMMARY:BFR & ORION TRAINING GROUP - TEAM COMPETITION - August 9-11 - PLUS Lodging
DESCRIPTION:FIRST ANNUAL TEAM SNIPER COMPETITION\nAugust 9-11\, 2024\nBen Franklin Range\n1130 Ridge Road\, Templeton PA 16259\n2 Person Team Event\n$500 Team Entry Fee\n \nThis event will be physically difficult. Competitors will cover upwards of 3 miles a day.\nStages will incorporate additional tasks to challenge competitors both physically and mentally. \nIt is recommended that competitors have experience in this type of physical and mental competition.\nWe are expecting teams from Special Operation Units and some of the top civilian teams in the country. \nMatch Overview \n\n2 day match\n18-22 stages over one 3 mile course\nAll stages are blind. You will have to find\, range and engage targets within a time limit.\nTargets from 100-1200 yards\nPistol targets 0-100 yards\nAll rifle targets are steel\nMinimum Round count\n\n\n\n200 rifle\n200 carbine\n100 pistol per team member (200 total per team)\nIt is recommended to bring 500ish carbine due to high round counts. If you like to miss\, bring extra ammo.\n\n\n\n\n\nTimeline: \n\nRegistration on Friday\, August 9: 3pm – 6pm\nZero Sight on range Friday\, August 9: 3pm-6pm\nEvent Brief Friday\, August 9: 6pm\nTee Times will be posted at Registration\nSaturday\, August 10: 0800-1500\nSunday\, August 11: 0800-1500\nAwards ASAP upon completion\n\nTeam Definitions: \n\nEach team will have two shooters\nOne shooter will be the “rifle” shooter and the other the “carbine”\nTargets identified as rifle only may only be engaged by the rifle shooter with his rifle and vice versa\nCompetitors will at no time switch weapons unless specifically directed by staff\n\nEquipment: \n\nIndividual competitors may use only one rifle during the match.\nThere are two Classes\, Open and Service.\n\nOpen class Rifle Requirements: \n\nMinimum Caliber .243/6mm\nMaximum Caliber: 300wm\nMax muzzle velocity: 3200fps\nAmmo subject to chrono at any time\nBolt action or Semi Auto\n\nOpen Class Carbine Requirements: \n\nMinimum Caliber .223/5.56\nMaximum Caliber: 300wm\nMax muzzle velocity: 3200fps\nAmmo subject to chrono at any time\nSemi Auto\n\nService Class Rifle Requirements: \n\nMinimum Caliber .243/6mm\nMaximum Caliber: 300wm\nMax muzzle velocity: 3200fps\nAmmo subject to chrono at any time\nBolt action or Semi Auto\nNO WMLFRs\n\nService Class Carbine Requirements: \n\nAcceptable calibers: .223/5.56 or .308/7.62 (No 243\, 6mm\, 6.5mm etc. You get NATO and you’re going to like it)\nMax muzzle velocity: 3200fps\nAmmo subject to chrono at any time\nSemi Auto\nNO WMLFRs\n\nAll long guns must have a suitable sling for carrying the rifle hands-free. \nPistols: \n\n9mm-.45\nMax 1500fps.\nCross Draw and Appendix Holsters prohibited\nMust carry holstered pistol at all times.\nHolsters must work. If your pistol falls out of the holster during any point in the competition that will result in a team DQ.\n\nAll equipment (with the exception of clothing and food/water) that the team wants to use at any point in the competition must be carried for the duration of the competition. \nAll gear must be off the ground (in your hands or bags) prior to time starting at any stage. \nCompetitors are responsible for ROing the team behind them and must be prepared to spot hits or misses. You must have good binos/spotting scope (binos strongly recommended) and a stopwatch \nScoring: \n\nScoring is based on a hit percentage system. Each stage will have a time limit. Each stage will be weighted equally. Teams with WMLRFs will receive a time penalty of 10-15% for every stage that involves ranging targets.\n\nFor questions please email: dylan@benfranklinrange.com \n  \nPlease register below – Space is limited to 30 teams\nPlease sign online waiver when registering:\nONLINE WAIVER\n  \nThis competition is a physically demanding event based on the terrain. This will make each shooting station even more demanding and very challenging. We are expecting some of the best competitors in the country\, both civilians and military to be in attendance. We welcome all to this event but please come prepared.
URL:https://benfranklinrange.com/event1/bfr-orion-training-group-team-competition-august-9-11/
LOCATION:Ben Franklin Range\, 1130 Ridge Road\, Templeton\, PA\, 16259\, United States
CATEGORIES:Competitions,Events
ATTACH;FMTTYPE=image/png:https://benfranklinrange.com/wp-content/uploads/2023/06/bfr_class_event_header01.png
ORGANIZER;CN="Ben Franklin Range":MAILTO:info@benfranklinrange.com
END:VEVENT
BEGIN:VEVENT
DTSTART;TZID=America/New_York:20240713T080000
DTEND;TZID=America/New_York:20240714T170000
DTSTAMP:20260420T061355
CREATED:20240619T223912Z
LAST-MODIFIED:20240619T233902Z
UID:10000128-1720857600-1720976400@benfranklinrange.com
SUMMARY:Lodge - Guardian Long Range Competition - July 13 and 14
DESCRIPTION:Lodge – Guardian Long Range Competition\nJuly 13 and 14\nOnly participants registered for this event can book lodging on this site – Lodging for participants only \n  \nRegister for the Competition: \nhttps://guardianlongrange.com/matches-lonfq \n  \nBen Franklin Range Lodging information and registration for this course will be as follows: \nCheck In: \nFriday July 12th at 5pm or later \nCheck Out: \nSunday July 14th Immediately after the event \nCost: \n2 Nights \n$60/Bunk = $120 \nPlus one time cleaning fee of $30/Bunk \n$120(bunk) + $30(cleaning) = $150 + $9(tax) = $159.00 Total \nLodging includes: (click to see BFR Lodge) \n\n1 bunk\nStorage Locker (please provide own lock for stand up lockers)\nAccess to 2 full baths\nKitchenette (Refrigerator\, freezer\, microwave\, coffee maker)\nCommon area\nFree on-site free parking\nLinens and Towels included\n\nCleaning fee is one time charge per stay per bunk – Please add separate to your final ticket items below (Only need to add once for entire stay) \nNo onsite camping options at all available for this event – If students wish to camp they need to find alternate site arrangements \n Please click here to sign waiver when registering for a bunk – Must sign waiver before entering Lodge for your stay \nShortly before event – Students will receive an email with Lodge Door codes\, Gate codes and various files with information about BFR and the area as well as safety and standard operational procedures of the property \nIf you have any questions please contact us: \nCall or Text: (412) 439-8751 \nEmail: info@benfranklinrange.com \nPlease note: \nThis registration is for Lodging only – to register for the class please see link above
URL:https://benfranklinrange.com/event1/lodge-guardian-long-range-competition-july-13-and-14/
LOCATION:Ben Franklin Range\, 1130 Ridge Road\, Templeton\, PA\, 16259\, United States
CATEGORIES:Competitions,Lodging
ATTACH;FMTTYPE=image/png:https://benfranklinrange.com/wp-content/uploads/2023/07/bfr_lodge_header.png
ORGANIZER;CN="Guardian Long Range Competition":MAILTO:steve@guardianlongrange.org
END:VEVENT
BEGIN:VEVENT
DTSTART;TZID=America/New_York:20230114T110000
DTEND;TZID=America/New_York:20230114T170000
DTSTAMP:20260420T061355
CREATED:20230112T150657Z
LAST-MODIFIED:20230112T150657Z
UID:10000004-1673694000-1673715600@benfranklinrange.com
SUMMARY:BFR 2 Gun Shooting Competition
DESCRIPTION:EVENT IS SOLD OUT. \nPLEASE CHECK FUTURE BFR 2 GUN COMPETITIONS \n  \nBFR 2 Gun Shooting Competition \n$40.00 \nBen Franklin Range’s first competition will be held on January 14th\, 2023 at 12:00 p.m. EST! \n  \nOur first competition will be a 2-Gun event that takes place during the daytime. Scoring will be raw time plus penalties. Rifles\, SBRs\, MGs\, Braced Pistols\, Binaries\, PCCS\, and suppressors in all form factors are welcome. You are welcome to run one gun only but it will not contribute to the overall competition leaderboard. \n  \nStages will be designed to allow the individual to stress their gear and mind in realistic scenarios. These stages will be set up in a competition setting where rules and restrictions are at a minimum. Any rules enforced are designed to maintain the integrity of realism for the stages. Safety is our number one priority\, you can go at your own pace. If you have any questions or concerns\, please feel free to reach out. \n  \nSome examples of scenarios can include CQB-style room clearing\, fighting your way out of a vehicle\, etc. There will be 6 stages set up with a rough round count of 100 for each weapon system(200 total). \n  \nDivisions: \n●      Overt(OWB) \n○      Primary must be slung\, secondary must be holstered. \n●      Covert(CCW) \n○      Both weapon systems must be concealed. Primary can be concealed behind garments\, bagged\, or in a case. Primaries that aren’t on the person and in direct control will be stored in cruiser ready. \n  \nAmmo Caliber Restrictions: \n●      No Steel Penetrators(M855\, 7n6\, etc.) \n●      No .308+ \n  \nTime: \n–       Check-in begins at 11:00 a.m.\, shooting commences at 12:00 p.m. \n–       Expecting the first run to possibly go to 3:00 p.m.\, the second run and clean will extend past 5:00 p.m. \n  \nPrice: \n$40 + $20 for another run \n  \nYou can pre-pay here or pay with cash onsite. \n  \nCan Sign Waiver Online Before Event
URL:https://benfranklinrange.com/event1/bfr-2-gun-shooting-competition/
CATEGORIES:Competitions
ATTACH;FMTTYPE=image/jpeg:https://benfranklinrange.com/wp-content/uploads/2023/01/bfr_16_9_2_gun_comp_file.jpg
END:VEVENT
END:VCALENDAR