BEGIN:VCALENDAR
VERSION:2.0
PRODID:-//Ben Franklin Range - ECPv6.15.20//NONSGML v1.0//EN
CALSCALE:GREGORIAN
METHOD:PUBLISH
X-ORIGINAL-URL:https://benfranklinrange.com
X-WR-CALDESC:Events for Ben Franklin Range
REFRESH-INTERVAL;VALUE=DURATION:PT1H
X-Robots-Tag:noindex
X-PUBLISHED-TTL:PT1H
BEGIN:VTIMEZONE
TZID:America/New_York
BEGIN:DAYLIGHT
TZOFFSETFROM:-0500
TZOFFSETTO:-0400
TZNAME:EDT
DTSTART:20250309T070000
END:DAYLIGHT
BEGIN:STANDARD
TZOFFSETFROM:-0400
TZOFFSETTO:-0500
TZNAME:EST
DTSTART:20251102T060000
END:STANDARD
BEGIN:DAYLIGHT
TZOFFSETFROM:-0500
TZOFFSETTO:-0400
TZNAME:EDT
DTSTART:20260308T070000
END:DAYLIGHT
BEGIN:STANDARD
TZOFFSETFROM:-0400
TZOFFSETTO:-0500
TZNAME:EST
DTSTART:20261101T060000
END:STANDARD
BEGIN:DAYLIGHT
TZOFFSETFROM:-0500
TZOFFSETTO:-0400
TZNAME:EDT
DTSTART:20270314T070000
END:DAYLIGHT
BEGIN:STANDARD
TZOFFSETFROM:-0400
TZOFFSETTO:-0500
TZNAME:EST
DTSTART:20271107T060000
END:STANDARD
END:VTIMEZONE
BEGIN:VEVENT
DTSTART;TZID=America/New_York:20260407T080000
DTEND;TZID=America/New_York:20260408T170000
DTSTAMP:20260420T043343
CREATED:20260215T214254Z
LAST-MODIFIED:20260215T214618Z
UID:10000207-1775548800-1775667600@benfranklinrange.com
SUMMARY:BFR - Grey Sky Training - 1st Annual LE Designated Marksman - Competition & Conference April 7 & 8
DESCRIPTION:Grey Sky Training\n1st Annual LE Designated Marksman\nCompetition & Conference\nApril 7 & 8\n  \nTo Register: \n2026 LE Designated Marksman Conference & Competition \n \nhttps://greyskytraining.com/event/le-dm-conference-competition-2026/ \n  \nLaw Enforcement Agencies are increasingly utilizing carbines equipped with magnified optics in dedicated overwatch roles\, both as patrol designated marksman and as SWAT Snipers with SPRs. \nIntent: The purpose of the LE DM Conference/Comp is to instill camaraderie\, build professional relationships\, and enhance tactics\, techniques and procedures in the law enforcement scoped carbine community. \nDay 1 will be a competitive training event designed to hone and test skill through performance-induced stress. Training reduces novelty and builds mental maps for officers to follow during high stress\, critical incidents. Well-trained officers and teams are more confident and less likely to commit tactical errors through poor decision making\, which reduces agency liability. \nDay 2 will be a conference with DM OIS debriefs from major agencies with formal DM programs\, presentations from industry experts\, our nationwide survey results\, vendor show\, and a counter sniper/event overwatch training block. \nAttendees and competitors must be active law enforcement officers. \nSkills: Individual skills will be tested and evaluated. These include: \n\n\n\nRifle marksmanship:\n\nKnown/Unknown distance targets\nPositional Shooting\nTripod employment\n\n\nTarget detection/Observation\nAgility/Urban Scaling\nTrajectory Clearance\nDecision making\nLow-Percentage shots/Dirty Backgrounds\nCBRN operations\n\n\n\nEquipment: Although every real-world engagement is an “open class gunfight”\, this competition is designed to enhance ability with each officer’s issued equipment and events will be designed as such. Although many will discover inadequacies with their equipment during the event\, that is yet another feature of this training format. There will be two classes: “Patrol” (5.56mm carbines using normal ammunition and a max of 10x magnification) and “Open” (.308/6ARC/6MAX/6.5CM/NAS83). \nRound count and packing list will be sent to registered competitors. (Ammo may be shipped to BFR with your name/agency.) \n\nNumber of Competitors: 100 max\nDates: April 7-8\, 2026\, Tuesday – Wednesday\nAirport: Pittsburgh International Airport (18 miles from Hotel/Conference) \n\n\nHotel & Conference Venue: \n\nSheraton Pittsburgh Hotel at Station Square\, 300 West Station Square Drive\, Pittsburgh\, PA 15219 | 412-261-2000 sheratonstationsquare.com\nPer Diem/Govt room rate: $138/night\nVendor room rate: $159/night\nParking: $34/night\n\n\n\n\nRange: Ben Franklin Range\, 1130 Ridge Rd\, Templeton\, PA
URL:https://benfranklinrange.com/event1/bfr-grey-sky-training-1st-annual-le-designated-marksman-competition-conference-april-7-8/
LOCATION:Ben Franklin Range\, 1130 Ridge Road\, Templeton\, PA\, 16259\, United States
CATEGORIES:Competitions
ATTACH;FMTTYPE=image/jpeg:https://benfranklinrange.com/wp-content/uploads/2026/02/bfr_competition_banner.jpg
END:VEVENT
END:VCALENDAR