BEGIN:VCALENDAR
VERSION:2.0
PRODID:-//Ben Franklin Range - ECPv6.15.20//NONSGML v1.0//EN
CALSCALE:GREGORIAN
METHOD:PUBLISH
X-ORIGINAL-URL:https://benfranklinrange.com
X-WR-CALDESC:Events for Ben Franklin Range
REFRESH-INTERVAL;VALUE=DURATION:PT1H
X-Robots-Tag:noindex
X-PUBLISHED-TTL:PT1H
BEGIN:VTIMEZONE
TZID:America/New_York
BEGIN:DAYLIGHT
TZOFFSETFROM:-0500
TZOFFSETTO:-0400
TZNAME:EDT
DTSTART:20240310T070000
END:DAYLIGHT
BEGIN:STANDARD
TZOFFSETFROM:-0400
TZOFFSETTO:-0500
TZNAME:EST
DTSTART:20241103T060000
END:STANDARD
BEGIN:DAYLIGHT
TZOFFSETFROM:-0500
TZOFFSETTO:-0400
TZNAME:EDT
DTSTART:20250309T070000
END:DAYLIGHT
BEGIN:STANDARD
TZOFFSETFROM:-0400
TZOFFSETTO:-0500
TZNAME:EST
DTSTART:20251102T060000
END:STANDARD
BEGIN:DAYLIGHT
TZOFFSETFROM:-0500
TZOFFSETTO:-0400
TZNAME:EDT
DTSTART:20260308T070000
END:DAYLIGHT
BEGIN:STANDARD
TZOFFSETFROM:-0400
TZOFFSETTO:-0500
TZNAME:EST
DTSTART:20261101T060000
END:STANDARD
END:VTIMEZONE
BEGIN:VEVENT
DTSTART;TZID=America/New_York:20250531T200000
DTEND;TZID=America/New_York:20250531T230000
DTSTAMP:20260423T063219
CREATED:20250530T024842Z
LAST-MODIFIED:20250530T112251Z
UID:10000178-1748721600-1748732400@benfranklinrange.com
SUMMARY:Lodging – Redline Consulting Night Time Gas Gun Series – Match #2 May 31
DESCRIPTION:Lodging\nRedline Consulting Night Time Gas Gun Series\nMatch #2\nMay 31\n  \nRegister for the EVENT: \nhttps://redlineconsultingoh.com/product/redline-consulting-night-time-gas-gun-series-match-2-may-2025/ \nBen Franklin Range Lodging information and registration for this course will be as follows: \nCheck In: \nSaturday May 31 at 5pm or later \nCheck Out: \nSunday June 1 by 9am \n1 Nights \n$60/Bunk = $60 \nTax = $3.60 \nTotal = $63.60 \nPlus one time cleaning fee of $30/Bunk \n$60(bunk) + $30(cleaning) = $90 + $5.40(tax) = $95.40 Total \nLodging includes: (click to see BFR Lodge) \n\n1 bunk\nStorage Locker (please provide own lock for stand up lockers)\nAccess to 3 full baths\nKitchenette (Refrigerator\, freezer\, microwave\, coffee maker)\nFull Kitchen\, appliances and fully stocked with supplies\nCommon area\nFree on-site free parking\nLinens and Towels included\nCorner Store for small snack and logo merchandise purchases\n\nNo onsite camping options at all available for this event – If students wish to camp they need to find alternate site arrangements \n Please click here to sign waiver when registering for a bunk – Must sign waiver before entering Lodge for your stay \nShortly before event – Students will receive an email with Lodge Door codes\, Gate codes and various files with information about BFR and the area as well as safety and standard operational procedures of the property \nIf you have any questions please contact us: \nCall or Text: (412) 439-8751 \nEmail: info@benfranklinrange.com \nPlease note: \nThis registration is for Lodging only – to register for the class please see link above
URL:https://benfranklinrange.com/event1/lodging-redline-consulting-night-time-gas-gun-series-match-2-may-31/
LOCATION:Ben Franklin Range\, 1130 Ridge Road\, Templeton\, PA\, 16259\, United States
CATEGORIES:Competitions,Lodging
ATTACH;FMTTYPE=image/jpeg:https://benfranklinrange.com/wp-content/uploads/2025/05/bfr_lodge_header-web-header.jpg
END:VEVENT
END:VCALENDAR