BEGIN:VCALENDAR
VERSION:2.0
PRODID:-//Ben Franklin Range - ECPv6.15.20//NONSGML v1.0//EN
CALSCALE:GREGORIAN
METHOD:PUBLISH
X-ORIGINAL-URL:https://benfranklinrange.com
X-WR-CALDESC:Events for Ben Franklin Range
REFRESH-INTERVAL;VALUE=DURATION:PT1H
X-Robots-Tag:noindex
X-PUBLISHED-TTL:PT1H
BEGIN:VTIMEZONE
TZID:America/New_York
BEGIN:DAYLIGHT
TZOFFSETFROM:-0500
TZOFFSETTO:-0400
TZNAME:EDT
DTSTART:20240310T070000
END:DAYLIGHT
BEGIN:STANDARD
TZOFFSETFROM:-0400
TZOFFSETTO:-0500
TZNAME:EST
DTSTART:20241103T060000
END:STANDARD
BEGIN:DAYLIGHT
TZOFFSETFROM:-0500
TZOFFSETTO:-0400
TZNAME:EDT
DTSTART:20250309T070000
END:DAYLIGHT
BEGIN:STANDARD
TZOFFSETFROM:-0400
TZOFFSETTO:-0500
TZNAME:EST
DTSTART:20251102T060000
END:STANDARD
BEGIN:DAYLIGHT
TZOFFSETFROM:-0500
TZOFFSETTO:-0400
TZNAME:EDT
DTSTART:20260308T070000
END:DAYLIGHT
BEGIN:STANDARD
TZOFFSETFROM:-0400
TZOFFSETTO:-0500
TZNAME:EST
DTSTART:20261101T060000
END:STANDARD
END:VTIMEZONE
BEGIN:VEVENT
DTSTART;TZID=America/New_York:20250405T080000
DTEND;TZID=America/New_York:20250406T170000
DTSTAMP:20260423T052721
CREATED:20250307T135357Z
LAST-MODIFIED:20250307T140344Z
UID:10000170-1743840000-1743958800@benfranklinrange.com
SUMMARY:Lodging - Baer Solutions Pistol LVL 1 & LVL 2 - April 5 & 6
DESCRIPTION:Ben Franklin Lodging\nBaer Solutions Pistol LVL 1 & LVL 2\n  \nLink to Class: \nPistol LVL 1 \nhttps://baersolutionsllc.com/view-all/p/17-feb-2024-florence-tx-pistol-lvl-1-drtkh \nPistol LVL 2 \nhttps://baersolutionsllc.com/view-all/p/pistol-2-5xgtd-9mas2-f7a4r-sntjj-jlfzb-39e4n-t8jr5-x597h-r5jld-h545l \n  \nSeveral Lodging Options \nOption 1 – Pistol Level 1 Class ONLY\nCheck In: \nFriday April 4 at 5pm or later \nCheck Out: \nSaturday April 5 by at the 9am – or the beginning of class \nSee Ticket Option 1 Below \nOption 2 – Pistol Level 2 Class ONLY\nCheck In: \nSaturday April 5 at 5pm or later \nCheck Out: \nSunday April 6 by at the 9am – or the beginning of class \nSee Ticket Option 2 Below \nOption 3 – Pistol Level 1 & Level 2 Classes ONLY\nCheck In: \nFriday April 4 at 5pm or later \nCheck Out: \nSunday April 6 by at the 9am – or the beginning of class \nSee Ticket Option 3 Below \n  \n  \nLodging includes: (click to see BFR Lodge) \n\n1 bunk\nStorage Locker (please provide own lock for stand up lockers)\nAccess to 3 full baths\nKitchenette (Refrigerator\, freezer\, microwave\, coffee maker)\nFull Kitchen\, appliances and fully stocked with supplies\nCommon area\nFree on-site free parking\nLinens and Towels included\nCorner Store for small snack and logo merchandise purchases\n\nNo onsite camping options at all available for this event – If students wish to camp they need to find alternate site arrangements \n Please click here to sign waiver when registering for a bunk – Must sign waiver before entering Lodge for your stay \nShortly before event – Students will receive an email with Lodge Door codes\, Gate codes and various files with information about BFR and the area as well as safety and standard operational procedures of the property \nIf you have any questions please contact us: \nCall or Text: (412) 439-8751 \nEmail: info@benfranklinrange.com \nPlease note: \nThis registration is for Lodging only – to register for the class please see link above
URL:https://benfranklinrange.com/event1/bear-solutions-pistol-lvl-1-lvl-2-april-5-6/
LOCATION:Ben Franklin Range\, 1130 Ridge Road\, Templeton\, PA\, 16259\, United States
CATEGORIES:Classes,Lodging
ATTACH;FMTTYPE=image/png:https://benfranklinrange.com/wp-content/uploads/2023/07/bfr_lodge_header.png
ORGANIZER;CN="Mojave Repeater":MAILTO:info@mojaverepeater.com
END:VEVENT
END:VCALENDAR