BEGIN:VCALENDAR
VERSION:2.0
PRODID:-//Ben Franklin Range - ECPv6.15.20//NONSGML v1.0//EN
CALSCALE:GREGORIAN
METHOD:PUBLISH
X-ORIGINAL-URL:https://benfranklinrange.com
X-WR-CALDESC:Events for Ben Franklin Range
REFRESH-INTERVAL;VALUE=DURATION:PT1H
X-Robots-Tag:noindex
X-PUBLISHED-TTL:PT1H
BEGIN:VTIMEZONE
TZID:America/New_York
BEGIN:DAYLIGHT
TZOFFSETFROM:-0500
TZOFFSETTO:-0400
TZNAME:EDT
DTSTART:20230312T070000
END:DAYLIGHT
BEGIN:STANDARD
TZOFFSETFROM:-0400
TZOFFSETTO:-0500
TZNAME:EST
DTSTART:20231105T060000
END:STANDARD
BEGIN:DAYLIGHT
TZOFFSETFROM:-0500
TZOFFSETTO:-0400
TZNAME:EDT
DTSTART:20240310T070000
END:DAYLIGHT
BEGIN:STANDARD
TZOFFSETFROM:-0400
TZOFFSETTO:-0500
TZNAME:EST
DTSTART:20241103T060000
END:STANDARD
BEGIN:DAYLIGHT
TZOFFSETFROM:-0500
TZOFFSETTO:-0400
TZNAME:EDT
DTSTART:20250309T070000
END:DAYLIGHT
BEGIN:STANDARD
TZOFFSETFROM:-0400
TZOFFSETTO:-0500
TZNAME:EST
DTSTART:20251102T060000
END:STANDARD
END:VTIMEZONE
BEGIN:VEVENT
DTSTART;TZID=America/New_York:20241005T090000
DTEND;TZID=America/New_York:20241006T170000
DTSTAMP:20260423T204421
CREATED:20240322T185914Z
LAST-MODIFIED:20241003T212654Z
UID:10000109-1728118800-1728234000@benfranklinrange.com
SUMMARY:BFR/RUHL - Breaching Class and Lodging - October 5-6
DESCRIPTION:BREACHING CLASS\nOctober 5 & 6\nPLUS ADDIOTIONAL LODGING\n$550/Person + Lodging\nWe are proud to present an open enrollment breaching class in partnership with Ben Franklin\nRange\, and we hope you enjoy the informative and exciting curriculum. During these two-day\nevents we will be covering a multitude of breaching techniques. The topics in the list below will\nhighlight the categories covered. \nCourse topics:\n– Mechanical breaching (houly\, sledge\, ram\, pry bar\, bolt cutters)\n– Exothermic breaching (torch and breach pen)\n– Ballistic breaching (shotgun)\n– Hydraulic breaching\n– Lockpicking \nThe course will have classroom time to cover each respective category\, after which we will\nmove into practical application and demonstration of the topics covered. If you are looking to\nenter the breaching world or looking to bring new techniques home\, this course will be the\nstarting point for everyone. We look forward to your attendance and we are excited to bring a\nclass that will benefit everyone in the community. Each student will receive a mini sledge\,\nnotebook\, and an engraved cup.
URL:https://benfranklinrange.com/event1/bfr-ruhl-breaching-class-and-lodging-july-13-14/
LOCATION:Ben Franklin Range\, 1130 Ridge Road\, Templeton\, PA\, 16259\, United States
CATEGORIES:Classes,Lodging
ATTACH;FMTTYPE=image/png:https://benfranklinrange.com/wp-content/uploads/2023/05/bfr_class_event_header-1.png
END:VEVENT
END:VCALENDAR