BEGIN:VCALENDAR
VERSION:2.0
PRODID:-//Ben Franklin Range - ECPv6.15.20//NONSGML v1.0//EN
CALSCALE:GREGORIAN
METHOD:PUBLISH
X-WR-CALNAME:Ben Franklin Range
X-ORIGINAL-URL:https://benfranklinrange.com
X-WR-CALDESC:Events for Ben Franklin Range
REFRESH-INTERVAL;VALUE=DURATION:PT1H
X-Robots-Tag:noindex
X-PUBLISHED-TTL:PT1H
BEGIN:VTIMEZONE
TZID:America/New_York
BEGIN:DAYLIGHT
TZOFFSETFROM:-0500
TZOFFSETTO:-0400
TZNAME:EDT
DTSTART:20240310T070000
END:DAYLIGHT
BEGIN:STANDARD
TZOFFSETFROM:-0400
TZOFFSETTO:-0500
TZNAME:EST
DTSTART:20241103T060000
END:STANDARD
BEGIN:DAYLIGHT
TZOFFSETFROM:-0500
TZOFFSETTO:-0400
TZNAME:EDT
DTSTART:20250309T070000
END:DAYLIGHT
BEGIN:STANDARD
TZOFFSETFROM:-0400
TZOFFSETTO:-0500
TZNAME:EST
DTSTART:20251102T060000
END:STANDARD
BEGIN:DAYLIGHT
TZOFFSETFROM:-0500
TZOFFSETTO:-0400
TZNAME:EDT
DTSTART:20260308T070000
END:DAYLIGHT
BEGIN:STANDARD
TZOFFSETFROM:-0400
TZOFFSETTO:-0500
TZNAME:EST
DTSTART:20261101T060000
END:STANDARD
END:VTIMEZONE
BEGIN:VEVENT
DTSTART;TZID=America/New_York:20250314T080000
DTEND;TZID=America/New_York:20250315T170000
DTSTAMP:20260423T070123
CREATED:20241224T140037Z
LAST-MODIFIED:20250313T000543Z
UID:10000148-1741939200-1742058000@benfranklinrange.com
SUMMARY:Lodging – Ghost Firearms Training - Team CQB – Room Clearing March 14 - 15
DESCRIPTION:Lodging – Ghost Firearms Training –\nTeam CQB – Room Clearing March 14 – 15\nRegister for the class(s): \nhttps://ghostfirearmstraining.com/courses/5-man-structure-clearing-cqb/ \nBen Franklin Range Lodging information and registration for this course will be as follows: \nCheck In: \nThursday March 13 at 5pm or later \nCheck Out: \nSaturday March 15 by at the 9am – or the beginning of class \nLodging includes: (click to see BFR Lodge) \n\n1 bunk\nStorage Locker (please provide own lock for stand up lockers)\nAccess to 3 full baths\nKitchenette (Refrigerator\, freezer\, microwave\, coffee maker)\nFull Kitchen\, appliances and fully stocked with supplies\nCommon area\nFree on-site free parking\nLinens and Towels included\nCorner Store for small snack and logo merchandise purchases\n\nNo onsite camping options at all available for this event – If students wish to camp they need to find alternate site arrangements \n Please click here to sign waiver when registering for a bunk – Must sign waiver before entering Lodge for your stay \nShortly before event – Students will receive an email with Lodge Door codes\, Gate codes and various files with information about BFR and the area as well as safety and standard operational procedures of the property \nIf you have any questions please contact us: \nCall or Text: (412) 439-8751 \nEmail: info@benfranklinrange.com \nPlease note: \nThis registration is for Lodging only – to register for the class please see link above
URL:https://benfranklinrange.com/event1/lodging-ghost-firearms-training-team-cqb-room-clearing-march-14-15/
LOCATION:Ben Franklin Range\, 1130 Ridge Road\, Templeton\, PA\, 16259\, United States
CATEGORIES:Classes,Lodging
ATTACH;FMTTYPE=image/png:https://benfranklinrange.com/wp-content/uploads/2023/12/bfr_ghost-firearms-class_lodge_header.png
ORGANIZER;CN="Ghost Firearms Training":MAILTO:ghostfirearmstraining@gmail.com
END:VEVENT
BEGIN:VEVENT
DTSTART;TZID=America/New_York:20250314T080000
DTEND;TZID=America/New_York:20250316T170000
DTSTAMP:20260423T070123
CREATED:20250114T002913Z
LAST-MODIFIED:20250114T003011Z
UID:10000163-1741939200-1742144400@benfranklinrange.com
SUMMARY:Class - Agonic - Mitchell Wiuff - SURVIVAL 102 - INTRO TO LAND NAVIGATION - MARCH 14-16
DESCRIPTION:Agonic\nMitchell Wiuff\nSURVIVAL 102 – INTRO TO LAND NAVIGATION\nMARCH 14-16\n  \nDESCRIPTION\n\nThis is a course where we provide controlled environment to learn and practice basic essential survival skills when you may need to be mobile. \nLocation: Templeton\, Pennsylvania \nDates: Friday-Sunday \nSkill level: Beginner and up \nAge Requirement: Anyone under the age of 18 must be companied by a parent or guardian. \nYou will not need to book a place to stay\, nature will provide. This is an immersive experience going over global principles for survival and how to adapt to your local environment and biome. We will cover the 5 basics of survival (Communication\, Navigation\, Personal Protection\, Sustenance\, and Medical) with a heavier focus on accurate and effective land navigation. It is recommended that you already have a base line knowledge of how a map and compass work. We will cover Topographical maps\, magnetic declination\, common trekking injuries/trauma and treatment\, the Military Grid Reference System\, the Universal Transvers Mercator system\, and how to build and use a navigational checklist to get from one point to another. \nFor this class you should be in good enough shape to carry everything you will need with you for two days of hard work in rough wilderness terrain regardless of weather conditions. \n\nTo Register for the class – flow the link below: \nhttps://agonicllc.com/products/survival-102-march-14-16-bfr
URL:https://benfranklinrange.com/event1/class-agonic-mitchell-wiuff-survival-102-intro-to-land-navigation-march-14-16/
LOCATION:Ben Franklin Range\, 1130 Ridge Road\, Templeton\, PA\, 16259\, United States
CATEGORIES:Classes
ATTACH;FMTTYPE=image/jpeg:https://benfranklinrange.com/wp-content/uploads/2025/01/bfr_course_web_header.jpg
END:VEVENT
END:VCALENDAR