BEGIN:VCALENDAR
VERSION:2.0
PRODID:-//Ben Franklin Range - ECPv6.15.20//NONSGML v1.0//EN
CALSCALE:GREGORIAN
METHOD:PUBLISH
X-ORIGINAL-URL:https://benfranklinrange.com
X-WR-CALDESC:Events for Ben Franklin Range
REFRESH-INTERVAL;VALUE=DURATION:PT1H
X-Robots-Tag:noindex
X-PUBLISHED-TTL:PT1H
BEGIN:VTIMEZONE
TZID:America/New_York
BEGIN:DAYLIGHT
TZOFFSETFROM:-0500
TZOFFSETTO:-0400
TZNAME:EDT
DTSTART:20220313T070000
END:DAYLIGHT
BEGIN:STANDARD
TZOFFSETFROM:-0400
TZOFFSETTO:-0500
TZNAME:EST
DTSTART:20221106T060000
END:STANDARD
BEGIN:DAYLIGHT
TZOFFSETFROM:-0500
TZOFFSETTO:-0400
TZNAME:EDT
DTSTART:20230312T070000
END:DAYLIGHT
BEGIN:STANDARD
TZOFFSETFROM:-0400
TZOFFSETTO:-0500
TZNAME:EST
DTSTART:20231105T060000
END:STANDARD
BEGIN:DAYLIGHT
TZOFFSETFROM:-0500
TZOFFSETTO:-0400
TZNAME:EDT
DTSTART:20240310T070000
END:DAYLIGHT
BEGIN:STANDARD
TZOFFSETFROM:-0400
TZOFFSETTO:-0500
TZNAME:EST
DTSTART:20241103T060000
END:STANDARD
END:VTIMEZONE
BEGIN:VEVENT
DTSTART;TZID=America/New_York:20230531T170000
DTEND;TZID=America/New_York:20230604T170000
DTSTAMP:20260420T140519
CREATED:20230309T204739Z
LAST-MODIFIED:20230310T154639Z
UID:10000040-1685552400-1685898000@benfranklinrange.com
SUMMARY:Lodging for AHT Courses - May 31 through June 4 AND Extra Night to June 5
DESCRIPTION:Lodging for Achilles Heel Tactical Classes \nLodging on-site at Ben Franklin Range for Wednesday May 31 thru Sunday June 4 with Single night stay options \nLodging includes: \n\n1 bunk\nStorage Locker (please provide own lock for stand up lockers)\nAccess to 3 full baths\nKitchenette\nCommon area\nOn-site free parking\nLinens and Towels included\n\nThere will be no mid week cleaning of the Lodge – Please take care for the week \nCleaning fee is one time charge per stay – You will have to register for the separate please \nFor these AHT Classes – There is NO on-site camping\, wilderness camping or primitive camping – Please reserve a bunk at the lodge \n  \nPlease sign waiver along with registering
URL:https://benfranklinrange.com/event1/lodging-for-aht-courses-may-31-through-june-4/
LOCATION:Ben Franklin Range\, 1130 Ridge Road\, Templeton\, PA\, 16259\, United States
CATEGORIES:Classes,Lodging
ATTACH;FMTTYPE=image/png:https://benfranklinrange.com/wp-content/uploads/2023/03/bfr_lodging_banner.png
ORGANIZER;CN="Ben Franklin Range":MAILTO:info@benfranklinrange.com
END:VEVENT
BEGIN:VEVENT
DTSTART;VALUE=DATE:20230602
DTEND;VALUE=DATE:20230605
DTSTAMP:20260420T140519
CREATED:20230112T230340Z
LAST-MODIFIED:20230112T230340Z
UID:10000013-1685664000-1685923199@benfranklinrange.com
SUMMARY:AHT @ BFR - CQB Foundations
DESCRIPTION:This 3 Day course focuses on the fundamentals of Close Quarters Battle and how to maximize your available personnel effectively in two\, three\, and four man teams. Students will begin their journey to better understand how to search and / or defend their current occupied structure during a multitude of realistic scenarios. Students will be introduced to the decision making process and learn how to identify whose “time line” they are on and  begin to understand how and when to change tempo and tactics as the situation changes or evolves. Students will leave with a deeper understanding of how to manipulate the situation to increase their survivability with common available resources. Students will greatly increase their operational capabilities and proficiency in terms of mitigating complex deadly force encounters while working within a team. These goals are met through detailed course instruction\, demonstration\, and practical force-on-force scenarios which result in immediate feedback. Open to any law abiding citizen\, active or retired law enforcement or military personnel with a basic understanding of firearms safety and handling (It is required that all students first attend our Baseline Pistol & Carbine Courses or an equivalent training course conducted by a certified firearms instructor. \n  \nThis course covers:\n\nShooting Competency & Hard Skills\nUnderstanding whos timeline you’re on\nActions at the breach\nRoles & Responsibilities of 1 through 4 man clears\nDoor Breaching Procedures\nPoints of Domination\nTeam sectors of fire\nCenter fed & Corner fed rooms\nTraversing hallways in team formations (Wide vs Narrow)\nOpposing Threat Areas\nNegotiating Dead space\nBlocking Position for team movements\nImportance of timing & spacing\nVerbal & Non-verbal communication\nTeam Movement Initiators\nStairwells\nAdvantages of Free Flow CQB vs Limited Penetration\n\nMinimum Gear Requirements\n\n\n\n\n\nAR-15\nRifle sling\nAt least 2 rifle magazines (EMPTY)\nEar & Clear Eye Protection\nAppropriate Clothing for terrain and Weather\nWeapons maintenance & cleaning equipment\nFood & Water\nNote Taking Material\nPermanent Marker\n\n  \n\nOPTIONAL:\nBody Armor\nHelmet\nNVG\nPlate carrier\nChest rig\nFirst Aid\, etc.\n\nTime: Time: 8 Hours (each day) \nPrice: $750.00 (includes range fee) \nClick to REGISTER\nAfter you purchase this course\, an AHT firearms instructor will contact you via email approximately 1 month from the course date with pre-course details and provide you with an exact location for the training. All course dates are subject to change due to full-time commitment to Law Enforcement.
URL:https://benfranklinrange.com/event1/aht-bfr-cqb-foundations-2/
LOCATION:Ben Franklin Range\, 1130 Ridge Road\, Templeton\, PA\, 16259\, United States
CATEGORIES:Classes
ATTACH;FMTTYPE=image/jpeg:https://benfranklinrange.com/wp-content/uploads/2023/01/bfr_aht_base_classes_cqb.jpg
END:VEVENT
BEGIN:VEVENT
DTSTART;VALUE=DATE:20230603
DTEND;VALUE=DATE:20230604
DTSTAMP:20260420T140519
CREATED:20230112T210757Z
LAST-MODIFIED:20230112T210757Z
UID:10000011-1685750400-1685836799@benfranklinrange.com
SUMMARY:AHT @ BFR - Baseline Trauma Medicine
DESCRIPTION:Our Baseline Trauma Medicine Course introduces the building blocks of good pre-hospital or pre-EMS care that everyday citizens may encounter a need for.  Whether it’s caring for a loved one or helping your fellow man\, we will provide the skills needed to assess and intervene in any time of crisis. The Baseline Med course focuses on more than just the lifesaving trauma skills themselves\, but also WHY these skills are important\, so the student understands not only what they are doing but also why they are doing it. This course is taught by current medical professionals and is a perfect introduction for prepared citizens. All training aids provided. \nThis course covers:\n– Scene safety assessment / Hazard identification \n– Personal safety considerations \n– Medical equipment and gear selection \n– Basic trauma assessment skills \n– Bleeding control skills \n– tourniquet application \n– wound packing \n– pressure dressing / direct pressure \n– Hemostatic agents \n– when to use each skill \n– Airway assessment and interventions \n– Airway opening / positioning \n– obstruction clearing \n– NPA insertion \n– Rescue breathing techniques \n– pocket mask \n– barrier devices \n– assessment \n– Pulse Checks \n– Locations and indication \n– Treating for shock \n– Evacuation / Exposure \nMinimum Gear Requirements\n\n\n\n\n\nEquipment Needed:\nBring your personal med kits / IFAK’s for gear assessment. (Your gear will not be used unless you want to use it)\nNote taking gear\n\nPrice: $350 \nTime: 8 Hours \nClick to REGISTER\nThe Baseline course is a pre-requisite for additional courses as subsequent AHT Med courses will build upon the knowledge and skills obtained in this course
URL:https://benfranklinrange.com/event1/aht-bfr-baseline-trauma-medicine/
LOCATION:Ben Franklin Range\, 1130 Ridge Road\, Templeton\, PA\, 16259\, United States
ATTACH;FMTTYPE=image/jpeg:https://benfranklinrange.com/wp-content/uploads/2023/01/bfr_aht_base_classes_trama.jpg
END:VEVENT
BEGIN:VEVENT
DTSTART;VALUE=DATE:20230603
DTEND;VALUE=DATE:20230604
DTSTAMP:20260420T140519
CREATED:20230112T211535Z
LAST-MODIFIED:20230112T211535Z
UID:10000012-1685750400-1685836799@benfranklinrange.com
SUMMARY:AHT @ BFR - NVG Baseline Operator
DESCRIPTION:Our NVG Baseline Operator Course focuses on the fundamental understanding of night vision & building the individuals skill sets with rifle & pistol under Night Vision Goggles (NVGs) The class will start with the psychology and benefits of employing NVGs as a force multiplier at night. You will then move into industry standards for gear selection and setup. This class will provide the student with the tools to safely & effectively move\, shoot\, and communicate in low-light/no-light environments. Students will participate in a crawl\, walk\, run approach while learning to utilize their equipment. By the end of class\, students will have progressed all the way through to a variety of movement and live-fire shooting exercises. The courses of fire are to produce a core competency with night vision goggles\, lasers\, and white light. At the end of this course\, students will have a clear understanding of why and how we fight at night. \n  \nNVG Rentals are available for additional costs from Darksky Optics. Upon completion of purchasing this course you will be connected to set up your rentals. \n  \nThis course covers:\n  \n– shooting fundamentals / safety \n– Psychology of fighting at night with NVG’s \n– kit set ups (helmet\, comms\, NVGs\, Lasers/illuminators) \n– laser zeroing \n– passive vs IR shooting & when to apply \n– environment considerations \n– pistol RDS/iron sight shooting under NVGs \n– clearing malfuntions both rifle & pistol \n– shooting positions / alternative shooting positions \n– information process & PID \n– ballistics (Internal\, External\, Terminal) \n– shooting positions / alternative shooting positions \n– efficient movement / body mechanics \n– Primary & secondary weapons manipulation \n– gear considerations \n– malfunctions / reloading \n– uses of cover and movement under NV \nMinimum Gear Requirements\n\n\n\n\n\n\nTactical Rifle with IR laser\nPistol\nOWB Holster\nRifle sling\nNVGs\nHelmet\nBatteries\nAt least 500 rounds rifle\nAt least 500 rounds pistol\nAt least 3 rifle magazines\nAt least 3 pistol magazines\n2 magazine holders for pistol magazines\n1 magazine holder  for rifle magazines\nEar & Eye Protection\nAppropriate Clothing for terrain and Weather\nWeapons maintenance & cleaning equipment\nFood & Water\nPermanent Marker\n\n  \n\nOPTIONAL:\nBody Armor\nPlate carrier\nChest rig\nFirst Aid\, etc.\n\nPrice: $400.00 (includes range fee) \nTime: 8 Hours \nClick to REGISTER\nAfter you purchase this course\, an AHT firearms instructor will contact you via email approximately 1 month from the course date with pre-course details and provide you with an exact location for the training. All course dates are subject to change due to full-time commitment to Law Enforcement.
URL:https://benfranklinrange.com/event1/aht-bfr-nvg-baseline-operator/
LOCATION:Ben Franklin Range\, 1130 Ridge Road\, Templeton\, PA\, 16259\, United States
CATEGORIES:Classes
ATTACH;FMTTYPE=image/jpeg:https://benfranklinrange.com/wp-content/uploads/2023/01/bfr_aht_base_classes_nv.jpg
END:VEVENT
END:VCALENDAR