BEGIN:VCALENDAR
VERSION:2.0
PRODID:-//Ben Franklin Range - ECPv6.15.20//NONSGML v1.0//EN
CALSCALE:GREGORIAN
METHOD:PUBLISH
X-WR-CALNAME:Ben Franklin Range
X-ORIGINAL-URL:https://benfranklinrange.com
X-WR-CALDESC:Events for Ben Franklin Range
REFRESH-INTERVAL;VALUE=DURATION:PT1H
X-Robots-Tag:noindex
X-PUBLISHED-TTL:PT1H
BEGIN:VTIMEZONE
TZID:America/New_York
BEGIN:DAYLIGHT
TZOFFSETFROM:-0500
TZOFFSETTO:-0400
TZNAME:EDT
DTSTART:20220313T070000
END:DAYLIGHT
BEGIN:STANDARD
TZOFFSETFROM:-0400
TZOFFSETTO:-0500
TZNAME:EST
DTSTART:20221106T060000
END:STANDARD
BEGIN:DAYLIGHT
TZOFFSETFROM:-0500
TZOFFSETTO:-0400
TZNAME:EDT
DTSTART:20230312T070000
END:DAYLIGHT
BEGIN:STANDARD
TZOFFSETFROM:-0400
TZOFFSETTO:-0500
TZNAME:EST
DTSTART:20231105T060000
END:STANDARD
BEGIN:DAYLIGHT
TZOFFSETFROM:-0500
TZOFFSETTO:-0400
TZNAME:EDT
DTSTART:20240310T070000
END:DAYLIGHT
BEGIN:STANDARD
TZOFFSETFROM:-0400
TZOFFSETTO:-0500
TZNAME:EST
DTSTART:20241103T060000
END:STANDARD
END:VTIMEZONE
BEGIN:VEVENT
DTSTART;TZID=America/New_York:20230513T100000
DTEND;TZID=America/New_York:20230513T170000
DTSTAMP:20260420T173545
CREATED:20230506T015840Z
LAST-MODIFIED:20230506T015924Z
UID:10000044-1683972000-1683997200@benfranklinrange.com
SUMMARY:BFR 2 Gun Shooting Competition
DESCRIPTION:Join us for the next stage of 2 Gun Competition at Ben Franklin Range \nSaturday\, May 13 \nGates Open at 10AM \nCompetition Starts at 11AM \n$50 Preregister online below \nOR \n$70 Pay at gate \nThe 2-Gun event that takes place during the daytime. Scoring will be raw time plus penalties. Rifles\, SBRs\, MGs\, Braced Pistols\, Binaries\, PCCS\, and suppressors in all form factors are welcome. You are welcome to run one gun only but it will not contribute to the overall competition leaderboard. \nStages will be designed to allow the individual to stress their gear and mind in realistic scenarios. These stages will be set up in a competition setting where rules and restrictions are at a minimum. Any rules enforced are designed to maintain the integrity of realism for the stages. Safety is our number one priority\, you can go at your own pace. If you have any questions or concerns\, please feel free to reach out. \nSome examples of scenarios can include CQB-style room clearing\, fighting your way out of a vehicle\, etc. There will be 6 stages set up with a rough round count of 100 for each weapon system(200 total). \nDivisions: \n\nOvert(OWB)\n\n○      Primary must be slung\, secondary must be holstered. \n\nCovert(CCW)\n\n○      Both weapon systems must be concealed. Primary can be concealed behind garments\, bagged\, or in a case. Primaries that aren’t on the person and in direct control will be stored in cruiser ready. \nAmmo Caliber Restrictions: \n\nNo Steel Penetrators(M855\, 7n6\, etc.)\nNo .308+\n\nTime: \n–       Check-in begins at 10:00 a.m.\, shooting commences at 11:00 a.m. \n–       Expecting the first run to possibly go to 3:00 p.m.\, the second run and clean will extend past 5:00 p.m. \n  \nAge Restrictions: \nNo one under the age of 18 will be admitted to this event \n  \nPrice: \n$50 + $20 for another run (if you select to do another run) \nYou can pre-pay here ($50) or pay with cash at the gate the day of event ($70) \n  \nSign up to Register your Scores: \nhttps://practiscore.com/login \nCan Sign Waiver Online Before Event
URL:https://benfranklinrange.com/event1/bfr-2-gun-shooting-competition-2/
LOCATION:Ben Franklin Range\, 1130 Ridge Road\, Templeton\, PA\, 16259\, United States
CATEGORIES:Events
ATTACH;FMTTYPE=image/jpeg:https://benfranklinrange.com/wp-content/uploads/2023/05/bfr_facebook_event_2_gun-1.jpg
ORGANIZER;CN="Ben Franklin Range":MAILTO:info@benfranklinrange.com
END:VEVENT
END:VCALENDAR