BEGIN:VCALENDAR
VERSION:2.0
PRODID:-//Ben Franklin Range - ECPv6.15.20//NONSGML v1.0//EN
CALSCALE:GREGORIAN
METHOD:PUBLISH
X-ORIGINAL-URL:https://benfranklinrange.com
X-WR-CALDESC:Events for Ben Franklin Range
REFRESH-INTERVAL;VALUE=DURATION:PT1H
X-Robots-Tag:noindex
X-PUBLISHED-TTL:PT1H
BEGIN:VTIMEZONE
TZID:America/New_York
BEGIN:DAYLIGHT
TZOFFSETFROM:-0500
TZOFFSETTO:-0400
TZNAME:EDT
DTSTART:20220313T070000
END:DAYLIGHT
BEGIN:STANDARD
TZOFFSETFROM:-0400
TZOFFSETTO:-0500
TZNAME:EST
DTSTART:20221106T060000
END:STANDARD
BEGIN:DAYLIGHT
TZOFFSETFROM:-0500
TZOFFSETTO:-0400
TZNAME:EDT
DTSTART:20230312T070000
END:DAYLIGHT
BEGIN:STANDARD
TZOFFSETFROM:-0400
TZOFFSETTO:-0500
TZNAME:EST
DTSTART:20231105T060000
END:STANDARD
BEGIN:DAYLIGHT
TZOFFSETFROM:-0500
TZOFFSETTO:-0400
TZNAME:EDT
DTSTART:20240310T070000
END:DAYLIGHT
BEGIN:STANDARD
TZOFFSETFROM:-0400
TZOFFSETTO:-0500
TZNAME:EST
DTSTART:20241103T060000
END:STANDARD
END:VTIMEZONE
BEGIN:VEVENT
DTSTART;TZID=America/New_York:20230505T080000
DTEND;TZID=America/New_York:20230507T180000
DTSTAMP:20260420T155335
CREATED:20230213T013358Z
LAST-MODIFIED:20230309T215331Z
UID:10000034-1683273600-1683482400@benfranklinrange.com
SUMMARY:Defender Series Training Group - Advanced Structure Clearance/CQC 1 and 2 - AND BFR Lodging
DESCRIPTION:Defender Series Training Group – Advanced Structure Clearance/CQC 1 and 2 \nFri May 5\, 2023 8:00 AM – Sun May 7\, 2023 6:00 PM \nAdvanced Structure Clearance \nCQB 1 and 2 \nCourse of Instruction \n\nDynamic and Deliberate Clearance Methods\nLarge Structure Team Management\nNon-Verbal Communication\nTeam De-Confliction\nLimited Penetration\nPriorities of Work\nKnown vs. Unknown Hostage Rescue Tactics\nForce on paper and force on force(Role Players)\nAngel man-corner boy\nCross-pan/Cross-cover\n\nRequired Gear List \n\nDuty Belt\nHandgun and Rifle\n3 Mags per weapon system\nPlate Carrier and Ballistic Helmet\nRadio and Comms Headset(If available)\nEye and Ear Protection\nWeapon Mounted Flashlight or Handheld\nBlue Bolt and Marking rounds (200 Rifle 50 Handgun)\nRental UTM Bolts and Ammo are available upon request\nLight Sound Distraction Devices will be provided\n\nClick here to REGISTER \n  \nIf staying in the Lodge please sign the online waiver
URL:https://benfranklinrange.com/event1/defender-series-training-group-advanced-structure-clearance-cqc-1-and-2/
LOCATION:Ben Franklin Range\, 1130 Ridge Road\, Templeton\, PA\, 16259\, United States
CATEGORIES:Classes,CQB
ATTACH;FMTTYPE=image/jpeg:https://benfranklinrange.com/wp-content/uploads/2023/02/bfr_defender_series-2.jpg
END:VEVENT
END:VCALENDAR