BEGIN:VCALENDAR
VERSION:2.0
PRODID:-//Ben Franklin Range - ECPv6.15.20//NONSGML v1.0//EN
CALSCALE:GREGORIAN
METHOD:PUBLISH
X-WR-CALNAME:Ben Franklin Range
X-ORIGINAL-URL:https://benfranklinrange.com
X-WR-CALDESC:Events for Ben Franklin Range
REFRESH-INTERVAL;VALUE=DURATION:PT1H
X-Robots-Tag:noindex
X-PUBLISHED-TTL:PT1H
BEGIN:VTIMEZONE
TZID:America/New_York
BEGIN:DAYLIGHT
TZOFFSETFROM:-0500
TZOFFSETTO:-0400
TZNAME:EDT
DTSTART:20220313T070000
END:DAYLIGHT
BEGIN:STANDARD
TZOFFSETFROM:-0400
TZOFFSETTO:-0500
TZNAME:EST
DTSTART:20221106T060000
END:STANDARD
BEGIN:DAYLIGHT
TZOFFSETFROM:-0500
TZOFFSETTO:-0400
TZNAME:EDT
DTSTART:20230312T070000
END:DAYLIGHT
BEGIN:STANDARD
TZOFFSETFROM:-0400
TZOFFSETTO:-0500
TZNAME:EST
DTSTART:20231105T060000
END:STANDARD
BEGIN:DAYLIGHT
TZOFFSETFROM:-0500
TZOFFSETTO:-0400
TZNAME:EDT
DTSTART:20240310T070000
END:DAYLIGHT
BEGIN:STANDARD
TZOFFSETFROM:-0400
TZOFFSETTO:-0500
TZNAME:EST
DTSTART:20241103T060000
END:STANDARD
END:VTIMEZONE
BEGIN:VEVENT
DTSTART;TZID=America/New_York:20230421T170000
DTEND;TZID=America/New_York:20230423T170000
DTSTAMP:20260420T172938
CREATED:20230306T220648Z
LAST-MODIFIED:20230309T194445Z
UID:10000037-1682096400-1682269200@benfranklinrange.com
SUMMARY:Lodging for AHT @ BFR Baseline Pistol and Baseline Carbine Courses
DESCRIPTION:Lodging on-site at Ben Franklin Range \nLodging includes: \n\n1 bunk\nStorage Locker (please provide own lock for stand up lockers)\nAccess to 3 full baths\nKitchenette\nCommon area\nOn-site free parking\nLinens and Towels included\n\nLodging option below \n1 – Two Night – Check in Friday April 21 at 5pm – Check out Sunday April 23 after the end of the Baseline Carbine Class \nSelect at Ticket below and Sign online waiver
URL:https://benfranklinrange.com/event1/aht-bfr-lodging-for-baseline-pistol-and-or-baseline-carbine-courses/
LOCATION:Ben Franklin Range\, 1130 Ridge Road\, Templeton\, PA\, 16259\, United States
CATEGORIES:Lodging
ATTACH;FMTTYPE=image/png:https://benfranklinrange.com/wp-content/uploads/2023/03/bfr_lodging_banner.png
ORGANIZER;CN="Ben Franklin Range":MAILTO:info@benfranklinrange.com
END:VEVENT
BEGIN:VEVENT
DTSTART;VALUE=DATE:20230422
DTEND;VALUE=DATE:20230423
DTSTAMP:20260420T172938
CREATED:20230112T192450Z
LAST-MODIFIED:20230306T221026Z
UID:10000006-1682121600-1682207999@benfranklinrange.com
SUMMARY:AHT @ BFR - Baseline Pistol
DESCRIPTION:Our Baseline Pistol course focuses on the fundamentals of shooting pistol and teaches shooters how to get the most out of their training. This pistol course builds the framework for the shooter and develops their skill set by starting with a full understanding of the fundamentals so they are able to self diagnose. \nThis course covers:\n– fundamentals of shooting pistol\n– isolation of fundamentals\n– pistol manipulation\n– pistol shooting drills\n– reloading fundamentals\n– importance of grip and bone support\n– proper utilization of sight alignment and sight picture\n– draw and retention from OWB holster\n– weapons conditions\n– safety conditions\n– strong and support side shooting\n– common pistol malfunctions \n\nMinimum Gear Requirements\n\n\n\n\n\n\nOWB (Outside the waistband) or IWB (Inside the waistband) Holster\nReliable and sturdy EDC (everyday carry) belt\nAt least 1 magazine holder\n3 magazines\nReliable EDC Pistol\n400-500 rounds of ammunition\nEar & Eye Protection\nPermanent Marker\nAppropriate Clothing for Range\nWeapons maintenance & cleaning equipment\n\n\n\n\n\n  \nPrice: $350 \nTime: 8 Hours \nLink to REGISTER\nAfter you purchase this course\, an AHT firearms instructor will contact you via email approximately 1 month from the course date with pre-course details and provide you with an exact location for the training. All course dates are subject to change due to full-time commitment to Law Enforcement. \n  \nLodging at Ben Franklin Range Click Here
URL:https://benfranklinrange.com/event1/aht-baseline-pistol/
LOCATION:Ben Franklin Range\, 1130 Ridge Road\, Templeton\, PA\, 16259\, United States
CATEGORIES:Classes
ATTACH;FMTTYPE=image/jpeg:https://benfranklinrange.com/wp-content/uploads/2023/01/bfr_aht_base_classes.jpg
END:VEVENT
BEGIN:VEVENT
DTSTART;TZID=America/New_York:20230422T180000
DTEND;TZID=America/New_York:20230422T220000
DTSTAMP:20260420T172938
CREATED:20230407T125919Z
LAST-MODIFIED:20230422T180921Z
UID:10000043-1682186400-1682200800@benfranklinrange.com
SUMMARY:AHT & BFR - Night Shoot
DESCRIPTION:We are having a night shoot with our NEW Preferred Training  Partner Achilles Heel Tactical  – Rick and his staff will be part of our Night shoot going over the exciting classes\, training opportunities and other event we are planning at Ben Franklin Range and even run drills with everyone! \n  \nWe are extremely excited to have Achilles Heel Tactical as our Preferred Training Partner at BFR – Rick and his staff bring a lifetime of excellent experience and exciting opportunities to our friends here at BFR. \n  \nThe BFR Night Shoot will give you the opportunity to come out and shoot using Night Vision. Bring your own guns and ammo. Loaner Night Vision will be available for attendees to use. \n\nJUST ADDED: \nOur friends at Amped Airsoft will again be on site and have Night Vision Rental Gear Available for this event \n\n  \nMUST Pay online and sign waiver online prior to event:\nPlease sign Waiver online\nNo Registration at gate for this Event – Must Pre-Register – Space is Limited
URL:https://benfranklinrange.com/event1/aht-bfr-night-shoot-2/
LOCATION:Ben Franklin Range\, 1130 Ridge Road\, Templeton\, PA\, 16259\, United States
CATEGORIES:Events,Night Shoots
ATTACH;FMTTYPE=image/jpeg:https://benfranklinrange.com/wp-content/uploads/2023/01/bfr_aht_base_event.jpg
END:VEVENT
END:VCALENDAR