BEGIN:VCALENDAR
VERSION:2.0
PRODID:-//Ben Franklin Range - ECPv6.15.20//NONSGML v1.0//EN
CALSCALE:GREGORIAN
METHOD:PUBLISH
X-ORIGINAL-URL:https://benfranklinrange.com
X-WR-CALDESC:Events for Ben Franklin Range
REFRESH-INTERVAL;VALUE=DURATION:PT1H
X-Robots-Tag:noindex
X-PUBLISHED-TTL:PT1H
BEGIN:VTIMEZONE
TZID:America/New_York
BEGIN:DAYLIGHT
TZOFFSETFROM:-0500
TZOFFSETTO:-0400
TZNAME:EDT
DTSTART:20220313T070000
END:DAYLIGHT
BEGIN:STANDARD
TZOFFSETFROM:-0400
TZOFFSETTO:-0500
TZNAME:EST
DTSTART:20221106T060000
END:STANDARD
BEGIN:DAYLIGHT
TZOFFSETFROM:-0500
TZOFFSETTO:-0400
TZNAME:EDT
DTSTART:20230312T070000
END:DAYLIGHT
BEGIN:STANDARD
TZOFFSETFROM:-0400
TZOFFSETTO:-0500
TZNAME:EST
DTSTART:20231105T060000
END:STANDARD
BEGIN:DAYLIGHT
TZOFFSETFROM:-0500
TZOFFSETTO:-0400
TZNAME:EDT
DTSTART:20240310T070000
END:DAYLIGHT
BEGIN:STANDARD
TZOFFSETFROM:-0400
TZOFFSETTO:-0500
TZNAME:EST
DTSTART:20241103T060000
END:STANDARD
END:VTIMEZONE
BEGIN:VEVENT
DTSTART;TZID=America/New_York:20230421T170000
DTEND;TZID=America/New_York:20230423T170000
DTSTAMP:20260420T173943
CREATED:20230306T220648Z
LAST-MODIFIED:20230309T194445Z
UID:10000037-1682096400-1682269200@benfranklinrange.com
SUMMARY:Lodging for AHT @ BFR Baseline Pistol and Baseline Carbine Courses
DESCRIPTION:Lodging on-site at Ben Franklin Range \nLodging includes: \n\n1 bunk\nStorage Locker (please provide own lock for stand up lockers)\nAccess to 3 full baths\nKitchenette\nCommon area\nOn-site free parking\nLinens and Towels included\n\nLodging option below \n1 – Two Night – Check in Friday April 21 at 5pm – Check out Sunday April 23 after the end of the Baseline Carbine Class \nSelect at Ticket below and Sign online waiver
URL:https://benfranklinrange.com/event1/aht-bfr-lodging-for-baseline-pistol-and-or-baseline-carbine-courses/
LOCATION:Ben Franklin Range\, 1130 Ridge Road\, Templeton\, PA\, 16259\, United States
CATEGORIES:Lodging
ATTACH;FMTTYPE=image/png:https://benfranklinrange.com/wp-content/uploads/2023/03/bfr_lodging_banner.png
ORGANIZER;CN="Ben Franklin Range":MAILTO:info@benfranklinrange.com
END:VEVENT
END:VCALENDAR