BEGIN:VCALENDAR
VERSION:2.0
PRODID:-//Ben Franklin Range - ECPv6.15.20//NONSGML v1.0//EN
CALSCALE:GREGORIAN
METHOD:PUBLISH
X-WR-CALNAME:Ben Franklin Range
X-ORIGINAL-URL:https://benfranklinrange.com
X-WR-CALDESC:Events for Ben Franklin Range
REFRESH-INTERVAL;VALUE=DURATION:PT1H
X-Robots-Tag:noindex
X-PUBLISHED-TTL:PT1H
BEGIN:VTIMEZONE
TZID:America/New_York
BEGIN:DAYLIGHT
TZOFFSETFROM:-0500
TZOFFSETTO:-0400
TZNAME:EDT
DTSTART:20220313T070000
END:DAYLIGHT
BEGIN:STANDARD
TZOFFSETFROM:-0400
TZOFFSETTO:-0500
TZNAME:EST
DTSTART:20221106T060000
END:STANDARD
BEGIN:DAYLIGHT
TZOFFSETFROM:-0500
TZOFFSETTO:-0400
TZNAME:EDT
DTSTART:20230312T070000
END:DAYLIGHT
BEGIN:STANDARD
TZOFFSETFROM:-0400
TZOFFSETTO:-0500
TZNAME:EST
DTSTART:20231105T060000
END:STANDARD
BEGIN:DAYLIGHT
TZOFFSETFROM:-0500
TZOFFSETTO:-0400
TZNAME:EDT
DTSTART:20240310T070000
END:DAYLIGHT
BEGIN:STANDARD
TZOFFSETFROM:-0400
TZOFFSETTO:-0500
TZNAME:EST
DTSTART:20241103T060000
END:STANDARD
END:VTIMEZONE
BEGIN:VEVENT
DTSTART;TZID=America/New_York:20230114T110000
DTEND;TZID=America/New_York:20230114T170000
DTSTAMP:20260421T005002
CREATED:20230112T150657Z
LAST-MODIFIED:20230112T150657Z
UID:10000004-1673694000-1673715600@benfranklinrange.com
SUMMARY:BFR 2 Gun Shooting Competition
DESCRIPTION:EVENT IS SOLD OUT. \nPLEASE CHECK FUTURE BFR 2 GUN COMPETITIONS \n  \nBFR 2 Gun Shooting Competition \n$40.00 \nBen Franklin Range’s first competition will be held on January 14th\, 2023 at 12:00 p.m. EST! \n  \nOur first competition will be a 2-Gun event that takes place during the daytime. Scoring will be raw time plus penalties. Rifles\, SBRs\, MGs\, Braced Pistols\, Binaries\, PCCS\, and suppressors in all form factors are welcome. You are welcome to run one gun only but it will not contribute to the overall competition leaderboard. \n  \nStages will be designed to allow the individual to stress their gear and mind in realistic scenarios. These stages will be set up in a competition setting where rules and restrictions are at a minimum. Any rules enforced are designed to maintain the integrity of realism for the stages. Safety is our number one priority\, you can go at your own pace. If you have any questions or concerns\, please feel free to reach out. \n  \nSome examples of scenarios can include CQB-style room clearing\, fighting your way out of a vehicle\, etc. There will be 6 stages set up with a rough round count of 100 for each weapon system(200 total). \n  \nDivisions: \n●      Overt(OWB) \n○      Primary must be slung\, secondary must be holstered. \n●      Covert(CCW) \n○      Both weapon systems must be concealed. Primary can be concealed behind garments\, bagged\, or in a case. Primaries that aren’t on the person and in direct control will be stored in cruiser ready. \n  \nAmmo Caliber Restrictions: \n●      No Steel Penetrators(M855\, 7n6\, etc.) \n●      No .308+ \n  \nTime: \n–       Check-in begins at 11:00 a.m.\, shooting commences at 12:00 p.m. \n–       Expecting the first run to possibly go to 3:00 p.m.\, the second run and clean will extend past 5:00 p.m. \n  \nPrice: \n$40 + $20 for another run \n  \nYou can pre-pay here or pay with cash onsite. \n  \nCan Sign Waiver Online Before Event
URL:https://benfranklinrange.com/event1/bfr-2-gun-shooting-competition/
LOCATION:PA
CATEGORIES:Competitions
ATTACH;FMTTYPE=image/jpeg:https://benfranklinrange.com/wp-content/uploads/2023/01/bfr_16_9_2_gun_comp_file.jpg
END:VEVENT
END:VCALENDAR